{"text_format":"1","workbook":"xlsx","n_sheets":6,"sheets":["Read Me","Year 1 (rename)","Year 2 (rename)","Year 3 (rename)","Year 4 (rename)","Record Summary"],"not_rendered":{"charts":0,"images":0,"macros":0,"external_links":0,"defined_names":0,"comments":0,"pivot_tables":0},"unopened":[],"bounds":{"document_bytes":16777216,"sheet_cells":100000,"rows_first":2000,"rows_last":500,"rows_between":2000,"halvings":0,"cell_chars":16384,"cell_head_chars":4096},"cells_cut":0,"cells_raw":0,"read":"whole","date_system":"1900"}

{"sheet":"Read Me","index":0,"n_rows":32,"n_cols":2,"rows_kept":32,"cut":false,"hidden":false,"merged":[]}
[null,"EFFLUENT APPLICATION RECORD"]
[null,"A paddock-by-paddock traceability record for farm dairy effluent  ·  white-label template"]
[]
[null,"IMPORTANT — SET UP YOUR PADDOCKS FIRST (before entering any effluent records)"]
[null,"STEP 1: Open the “Record Summary” tab and replace the example paddocks in column A with your own paddock names or numbers — one per row. Do this before using any season tab, because these paddocks feed the dropdown list used for recording applications."]
[null,"2.  On each season tab, rename the tab to your actual season (for example 2025-2026), and fill in your farm name and resource consent number in the header row."]
[]
[null,"HOW TO USE IT (every application)"]
[null,"1.  Go to your current season tab."]
[null,"2.  In the next empty row, type the Start Date of the block. The End Date and Year fill in automatically (10-day block). You can type over the End Date if your block is a different length."]
[null,"3.  Pick the paddock you applied to from the dropdown in the Paddock column."]
[null,"4.  When you do a bucket test, type the measured depth (mm) in the Calibration column."]
[null,"5.  When you do the monthly maintenance, type “Check” in the last column."]
[null,"6.  That is it. Nothing else is required."]
[]
[null,"WHAT THIS IS"]
[null,"A record of where farm dairy effluent was applied, when, with calibration (bucket test) and monthly maintenance checks logged. It keeps a permanent, legible, backed-up log that exports cleanly if your council ever asks to see your records."]
[]
[null,"WHAT THIS IS NOT"]
[null,"This is a RECORD of what was done. It is NOT compliance advice. It does not tell you where you may or may not apply, how much, or whether anything is legal. It does not check any rule for you."]
[null,"The structure is modelled on a record format that an NZ regional council accepted for one farm’s consent. That does not mean your council will accept it, or that it meets the conditions of your consent. Effluent rules differ by region — in some regions discharge to land needs a resource consent, in others it is a permitted activity with set limits."]
[null,"You, the consent holder, remain responsible for meeting every condition of your own consent and every applicable regional rule. Before you rely on this, read your signed consent and confirm the record format with your regional council."]
[]
[null,"THE PADDOCK DROPDOWN"]
[null,"The dropdown list of paddocks on each season tab is built from the Paddock List on the “Record Summary” tab (column A). To add a new paddock, type it into that list and it will appear in the dropdowns."]
[]
[null,"PRINTING"]
[null,"Each tab has a print area set and is scaled to fit the page width. Season tabs print in landscape. File → Print will give you a clean paper copy."]
[]
[null,"—"]
[null,"Template supplied by [ your name / link here ] · free to use and adapt · remove this line if you prefer."]
[null,"Every value in this workbook is entered by you. No amounts, limits or paddocks are pre-filled or suggested."]

{"sheet":"Year 1 (rename)","index":1,"n_rows":150,"n_cols":6,"rows_kept":150,"cut":false,"hidden":false,"merged":[[0,5,1,5]]}
["Farm name:","[ your farm name ]",null,"Resource consent:","[ your consent no. ]","BEFORE USING THIS SHEET:\nSet up your paddocks first on the “Record Summary” tab."]
["Season:","[ e.g. 2025-2026 ]"]
["Start Date","End Date","Paddock","Year","Calibration (Bucket Test) mm","Maintenance each month (waterblasted, greased, line couplings checked)"]
[null,{"$f":"IF($A4=\"\",\"\",$A4+9)","v":""},"Example Paddock 1",{"$f":"IF($A4=\"\",\"\",YEAR($A4))","v":""}]
[null,"",null,""]
[null,"",null,""]
[null,"",null,""]
[null,"",null,""]
[null,"",null,""]
[null,"",null,""]
[null,"",null,""]
[null,"",null,""]
[null,"",null,""]
[null,"",null,""]
[null,"",null,""]
[null,"",null,""]
[null,"",null,""]
[null,"",null,""]
[null,"",null,""]
[null,"",null,""]
[null,"",null,""]
[null,"",null,""]
[null,"",null,""]
[null,"",null,""]
[null,"",null,""]
[null,"",null,""]
[null,"",null,""]
[null,"",null,""]
[null,"",null,""]
[null,"",null,""]
[null,"",null,""]
[null,"",null,""]
[null,"",null,""]
[null,"",null,""]
[null,"",null,""]
[null,"",null,""]
[null,"",null,""]
[null,"",null,""]
[null,"",null,""]
[null,"",null,""]
[null,"",null,""]
[null,"",null,""]
[null,"",null,""]
[null,"",null,""]
[null,"",null,""]
[null,"",null,""]
[null,"",null,""]
[null,"",null,""]
[null,"",null,""]
[null,"",null,""]
[null,"",null,""]
[null,"",null,""]
[null,"",null,""]
[null,"",null,""]
[null,"",null,""]
[null,"",null,""]
[null,"",null,""]
[null,"",null,""]
[null,"",null,""]
[null,"",null,""]
[null,"",null,""]
[null,"",null,""]
[null,"",null,""]
[null,"",null,""]
[null,"",null,""]
[null,"",null,""]
[null,"",null,""]
[null,"",null,""]
[null,"",null,""]
[null,"",null,""]
[null,"",null,""]
[null,"",null,""]
[null,"",null,""]
[null,"",null,""]
[null,"",null,""]
[null,"",null,""]
[null,"",null,""]
[null,"",null,""]
[null,"",null,""]
[null,"",null,""]
[null,"",null,""]
[null,"",null,""]
[null,"",null,""]
[null,"",null,""]
[null,"",null,""]
[null,"",null,""]
[null,"",null,""]
[null,"",null,""]
[null,"",null,""]
[null,"",null,""]
[null,"",null,""]
[null,"",null,""]
[null,"",null,""]
[null,"",null,""]
[null,"",null,""]
[null,"",null,""]
[null,"",null,""]
[null,"",null,""]
[null,"",null,""]
[null,"",null,""]
[null,"",null,""]
[null,"",null,""]
[null,"",null,""]
[null,"",null,""]
[null,"",null,""]
[null,"",null,""]
[null,"",null,""]
[null,"",null,""]
[null,"",null,""]
[null,"",null,""]
[null,"",null,""]
[null,"",null,""]
[null,"",null,""]
[null,"",null,""]
[null,"",null,""]
[null,"",null,""]
[null,"",null,""]
[null,"",null,""]
[null,"",null,""]
[null,"",null,""]
[null,"",null,""]
[null,"",null,""]
[null,"",null,""]
[null,"",null,""]
[null,"",null,""]
[null,"",null,""]
[null,"",null,""]
[null,"",null,""]
[null,"",null,""]
[null,"",null,""]
[null,"",null,""]
[null,"",null,""]
[null,"",null,""]
[null,"",null,""]
[null,"",null,""]
[null,"",null,""]
[null,"",null,""]
[null,"",null,""]
[null,"",null,""]
[null,"",null,""]
[null,"",null,""]
[null,"",null,""]
[null,"",null,""]
[null,"",null,""]
[null,"",null,""]
[null,"",null,""]
[null,"",null,""]
[null,"",null,""]
[null,"",null,""]
[null,"",null,""]

{"sheet":"Year 2 (rename)","index":2,"n_rows":150,"n_cols":6,"rows_kept":150,"cut":false,"hidden":false,"merged":[[0,5,1,5]]}
["Farm name:","[ your farm name ]",null,"Resource consent:","[ your consent no. ]","BEFORE USING THIS SHEET:\nSet up your paddocks first on the “Record Summary” tab."]
["Season:","[ e.g. 2025-2026 ]"]
["Start Date","End Date","Paddock","Year","Calibration (Bucket Test) mm","Maintenance each month (waterblasted, greased, line couplings checked)"]
[null,{"$f":"IF($A4=\"\",\"\",$A4+9)","v":""},null,{"$f":"IF($A4=\"\",\"\",YEAR($A4))","v":""}]
[null,"",null,""]
[null,"",null,""]
[null,"",null,""]
[null,"",null,""]
[null,"",null,""]
[null,"",null,""]
[null,"",null,""]
[null,"",null,""]
[null,"",null,""]
[null,"",null,""]
[null,"",null,""]
[null,"",null,""]
[null,"",null,""]
[null,"",null,""]
[null,"",null,""]
[null,"",null,""]
[null,"",null,""]
[null,"",null,""]
[null,"",null,""]
[null,"",null,""]
[null,"",null,""]
[null,"",null,""]
[null,"",null,""]
[null,"",null,""]
[null,"",null,""]
[null,"",null,""]
[null,"",null,""]
[null,"",null,""]
[null,"",null,""]
[null,"",null,""]
[null,"",null,""]
[null,"",null,""]
[null,"",null,""]
[null,"",null,""]
[null,"",null,""]
[null,"",null,""]
[null,"",null,""]
[null,"",null,""]
[null,"",null,""]
[null,"",null,""]
[null,"",null,""]
[null,"",null,""]
[null,"",null,""]
[null,"",null,""]
[null,"",null,""]
[null,"",null,""]
[null,"",null,""]
[null,"",null,""]
[null,"",null,""]
[null,"",null,""]
[null,"",null,""]
[null,"",null,""]
[null,"",null,""]
[null,"",null,""]
[null,"",null,""]
[null,"",null,""]
[null,"",null,""]
[null,"",null,""]
[null,"",null,""]
[null,"",null,""]
[null,"",null,""]
[null,"",null,""]
[null,"",null,""]
[null,"",null,""]
[null,"",null,""]
[null,"",null,""]
[null,"",null,""]
[null,"",null,""]
[null,"",null,""]
[null,"",null,""]
[null,"",null,""]
[null,"",null,""]
[null,"",null,""]
[null,"",null,""]
[null,"",null,""]
[null,"",null,""]
[null,"",null,""]
[null,"",null,""]
[null,"",null,""]
[null,"",null,""]
[null,"",null,""]
[null,"",null,""]
[null,"",null,""]
[null,"",null,""]
[null,"",null,""]
[null,"",null,""]
[null,"",null,""]
[null,"",null,""]
[null,"",null,""]
[null,"",null,""]
[null,"",null,""]
[null,"",null,""]
[null,"",null,""]
[null,"",null,""]
[null,"",null,""]
[null,"",null,""]
[null,"",null,""]
[null,"",null,""]
[null,"",null,""]
[null,"",null,""]
[null,"",null,""]
[null,"",null,""]
[null,"",null,""]
[null,"",null,""]
[null,"",null,""]
[null,"",null,""]
[null,"",null,""]
[null,"",null,""]
[null,"",null,""]
[null,"",null,""]
[null,"",null,""]
[null,"",null,""]
[null,"",null,""]
[null,"",null,""]
[null,"",null,""]
[null,"",null,""]
[null,"",null,""]
[null,"",null,""]
[null,"",null,""]
[null,"",null,""]
[null,"",null,""]
[null,"",null,""]
[null,"",null,""]
[null,"",null,""]
[null,"",null,""]
[null,"",null,""]
[null,"",null,""]
[null,"",null,""]
[null,"",null,""]
[null,"",null,""]
[null,"",null,""]
[null,"",null,""]
[null,"",null,""]
[null,"",null,""]
[null,"",null,""]
[null,"",null,""]
[null,"",null,""]
[null,"",null,""]
[null,"",null,""]
[null,"",null,""]
[null,"",null,""]
[null,"",null,""]
[null,"",null,""]
[null,"",null,""]
[null,"",null,""]
[null,"",null,""]

{"sheet":"Year 3 (rename)","index":3,"n_rows":150,"n_cols":6,"rows_kept":150,"cut":false,"hidden":false,"merged":[[0,5,1,5]]}
["Farm name:","[ your farm name ]",null,"Resource consent:","[ your consent no. ]","BEFORE USING THIS SHEET:\nSet up your paddocks first on the “Record Summary” tab."]
["Season:","[ e.g. 2025-2026 ]"]
["Start Date","End Date","Paddock","Year","Calibration (Bucket Test) mm","Maintenance each month (waterblasted, greased, line couplings checked)"]
[null,{"$f":"IF($A4=\"\",\"\",$A4+9)","v":""},null,{"$f":"IF($A4=\"\",\"\",YEAR($A4))","v":""}]
[null,"",null,""]
[null,"",null,""]
[null,"",null,""]
[null,"",null,""]
[null,"",null,""]
[null,"",null,""]
[null,"",null,""]
[null,"",null,""]
[null,"",null,""]
[null,"",null,""]
[null,"",null,""]
[null,"",null,""]
[null,"",null,""]
[null,"",null,""]
[null,"",null,""]
[null,"",null,""]
[null,"",null,""]
[null,"",null,""]
[null,"",null,""]
[null,"",null,""]
[null,"",null,""]
[null,"",null,""]
[null,"",null,""]
[null,"",null,""]
[null,"",null,""]
[null,"",null,""]
[null,"",null,""]
[null,"",null,""]
[null,"",null,""]
[null,"",null,""]
[null,"",null,""]
[null,"",null,""]
[null,"",null,""]
[null,"",null,""]
[null,"",null,""]
[null,"",null,""]
[null,"",null,""]
[null,"",null,""]
[null,"",null,""]
[null,"",null,""]
[null,"",null,""]
[null,"",null,""]
[null,"",null,""]
[null,"",null,""]
[null,"",null,""]
[null,"",null,""]
[null,"",null,""]
[null,"",null,""]
[null,"",null,""]
[null,"",null,""]
[null,"",null,""]
[null,"",null,""]
[null,"",null,""]
[null,"",null,""]
[null,"",null,""]
[null,"",null,""]
[null,"",null,""]
[null,"",null,""]
[null,"",null,""]
[null,"",null,""]
[null,"",null,""]
[null,"",null,""]
[null,"",null,""]
[null,"",null,""]
[null,"",null,""]
[null,"",null,""]
[null,"",null,""]
[null,"",null,""]
[null,"",null,""]
[null,"",null,""]
[null,"",null,""]
[null,"",null,""]
[null,"",null,""]
[null,"",null,""]
[null,"",null,""]
[null,"",null,""]
[null,"",null,""]
[null,"",null,""]
[null,"",null,""]
[null,"",null,""]
[null,"",null,""]
[null,"",null,""]
[null,"",null,""]
[null,"",null,""]
[null,"",null,""]
[null,"",null,""]
[null,"",null,""]
[null,"",null,""]
[null,"",null,""]
[null,"",null,""]
[null,"",null,""]
[null,"",null,""]
[null,"",null,""]
[null,"",null,""]
[null,"",null,""]
[null,"",null,""]
[null,"",null,""]
[null,"",null,""]
[null,"",null,""]
[null,"",null,""]
[null,"",null,""]
[null,"",null,""]
[null,"",null,""]
[null,"",null,""]
[null,"",null,""]
[null,"",null,""]
[null,"",null,""]
[null,"",null,""]
[null,"",null,""]
[null,"",null,""]
[null,"",null,""]
[null,"",null,""]
[null,"",null,""]
[null,"",null,""]
[null,"",null,""]
[null,"",null,""]
[null,"",null,""]
[null,"",null,""]
[null,"",null,""]
[null,"",null,""]
[null,"",null,""]
[null,"",null,""]
[null,"",null,""]
[null,"",null,""]
[null,"",null,""]
[null,"",null,""]
[null,"",null,""]
[null,"",null,""]
[null,"",null,""]
[null,"",null,""]
[null,"",null,""]
[null,"",null,""]
[null,"",null,""]
[null,"",null,""]
[null,"",null,""]
[null,"",null,""]
[null,"",null,""]
[null,"",null,""]
[null,"",null,""]
[null,"",null,""]
[null,"",null,""]
[null,"",null,""]
[null,"",null,""]
[null,"",null,""]
[null,"",null,""]
[null,"",null,""]

{"sheet":"Year 4 (rename)","index":4,"n_rows":150,"n_cols":6,"rows_kept":150,"cut":false,"hidden":false,"merged":[[0,5,1,5]]}
["Farm name:","[ your farm name ]",null,"Resource consent:","[ your consent no. ]","BEFORE USING THIS SHEET:\nSet up your paddocks first on the “Record Summary” tab."]
["Season:","[ e.g. 2025-2026 ]"]
["Start Date","End Date","Paddock","Year","Calibration (Bucket Test) mm","Maintenance each month (waterblasted, greased, line couplings checked)"]
[null,{"$f":"IF($A4=\"\",\"\",$A4+9)","v":""},null,{"$f":"IF($A4=\"\",\"\",YEAR($A4))","v":""}]
[null,"",null,""]
[null,"",null,""]
[null,"",null,""]
[null,"",null,""]
[null,"",null,""]
[null,"",null,""]
[null,"",null,""]
[null,"",null,""]
[null,"",null,""]
[null,"",null,""]
[null,"",null,""]
[null,"",null,""]
[null,"",null,""]
[null,"",null,""]
[null,"",null,""]
[null,"",null,""]
[null,"",null,""]
[null,"",null,""]
[null,"",null,""]
[null,"",null,""]
[null,"",null,""]
[null,"",null,""]
[null,"",null,""]
[null,"",null,""]
[null,"",null,""]
[null,"",null,""]
[null,"",null,""]
[null,"",null,""]
[null,"",null,""]
[null,"",null,""]
[null,"",null,""]
[null,"",null,""]
[null,"",null,""]
[null,"",null,""]
[null,"",null,""]
[null,"",null,""]
[null,"",null,""]
[null,"",null,""]
[null,"",null,""]
[null,"",null,""]
[null,"",null,""]
[null,"",null,""]
[null,"",null,""]
[null,"",null,""]
[null,"",null,""]
[null,"",null,""]
[null,"",null,""]
[null,"",null,""]
[null,"",null,""]
[null,"",null,""]
[null,"",null,""]
[null,"",null,""]
[null,"",null,""]
[null,"",null,""]
[null,"",null,""]
[null,"",null,""]
[null,"",null,""]
[null,"",null,""]
[null,"",null,""]
[null,"",null,""]
[null,"",null,""]
[null,"",null,""]
[null,"",null,""]
[null,"",null,""]
[null,"",null,""]
[null,"",null,""]
[null,"",null,""]
[null,"",null,""]
[null,"",null,""]
[null,"",null,""]
[null,"",null,""]
[null,"",null,""]
[null,"",null,""]
[null,"",null,""]
[null,"",null,""]
[null,"",null,""]
[null,"",null,""]
[null,"",null,""]
[null,"",null,""]
[null,"",null,""]
[null,"",null,""]
[null,"",null,""]
[null,"",null,""]
[null,"",null,""]
[null,"",null,""]
[null,"",null,""]
[null,"",null,""]
[null,"",null,""]
[null,"",null,""]
[null,"",null,""]
[null,"",null,""]
[null,"",null,""]
[null,"",null,""]
[null,"",null,""]
[null,"",null,""]
[null,"",null,""]
[null,"",null,""]
[null,"",null,""]
[null,"",null,""]
[null,"",null,""]
[null,"",null,""]
[null,"",null,""]
[null,"",null,""]
[null,"",null,""]
[null,"",null,""]
[null,"",null,""]
[null,"",null,""]
[null,"",null,""]
[null,"",null,""]
[null,"",null,""]
[null,"",null,""]
[null,"",null,""]
[null,"",null,""]
[null,"",null,""]
[null,"",null,""]
[null,"",null,""]
[null,"",null,""]
[null,"",null,""]
[null,"",null,""]
[null,"",null,""]
[null,"",null,""]
[null,"",null,""]
[null,"",null,""]
[null,"",null,""]
[null,"",null,""]
[null,"",null,""]
[null,"",null,""]
[null,"",null,""]
[null,"",null,""]
[null,"",null,""]
[null,"",null,""]
[null,"",null,""]
[null,"",null,""]
[null,"",null,""]
[null,"",null,""]
[null,"",null,""]
[null,"",null,""]
[null,"",null,""]
[null,"",null,""]
[null,"",null,""]
[null,"",null,""]
[null,"",null,""]
[null,"",null,""]
[null,"",null,""]
[null,"",null,""]
[null,"",null,""]

{"sheet":"Record Summary","index":5,"n_rows":250,"n_cols":4,"rows_kept":250,"cut":false,"hidden":false,"merged":[[0,0,0,1],[3,3,6,3]]}
["STEP 1 — SET UP PADDOCKS HERE FIRST  |  PADDOCK LIST & RECORD SUMMARY"]
[]
["Paddock List (edit — feeds the dropdowns)","Times applied (all seasons)"]
["Example Paddock 1",{"$f":"IF($A4=\"\",\"\",COUNTIF('Year 1 (rename)'!$C:$C,$A4)+COUNTIF('Year 2 (rename)'!$C:$C,$A4)+COUNTIF('Year 3 (rename)'!$C:$C,$A4)+COUNTIF('Year 4 (rename)'!$C:$C,$A4))","v":1},null,"Replace the example paddocks with your own (one per row). The count column adds up how many 10-day blocks each paddock received across every season tab. It is a plain tally of what you recorded — nothing here checks a rule or a limit."]
["Example Paddock 2",{"$f":"IF($A5=\"\",\"\",COUNTIF('Year 1 (rename)'!$C:$C,$A5)+COUNTIF('Year 2 (rename)'!$C:$C,$A5)+COUNTIF('Year 3 (rename)'!$C:$C,$A5)+COUNTIF('Year 4 (rename)'!$C:$C,$A5))","v":0}]
["Example Paddock 3",{"$f":"IF($A6=\"\",\"\",COUNTIF('Year 1 (rename)'!$C:$C,$A6)+COUNTIF('Year 2 (rename)'!$C:$C,$A6)+COUNTIF('Year 3 (rename)'!$C:$C,$A6)+COUNTIF('Year 4 (rename)'!$C:$C,$A6))","v":0}]
[null,{"$f":"IF($A7=\"\",\"\",COUNTIF('Year 1 (rename)'!$C:$C,$A7)+COUNTIF('Year 2 (rename)'!$C:$C,$A7)+COUNTIF('Year 3 (rename)'!$C:$C,$A7)+COUNTIF('Year 4 (rename)'!$C:$C,$A7))","v":""}]
[null,{"$f":"IF($A8=\"\",\"\",COUNTIF('Year 1 (rename)'!$C:$C,$A8)+COUNTIF('Year 2 (rename)'!$C:$C,$A8)+COUNTIF('Year 3 (rename)'!$C:$C,$A8)+COUNTIF('Year 4 (rename)'!$C:$C,$A8))","v":""}]
[null,{"$f":"IF($A9=\"\",\"\",COUNTIF('Year 1 (rename)'!$C:$C,$A9)+COUNTIF('Year 2 (rename)'!$C:$C,$A9)+COUNTIF('Year 3 (rename)'!$C:$C,$A9)+COUNTIF('Year 4 (rename)'!$C:$C,$A9))","v":""}]
[null,{"$f":"IF($A10=\"\",\"\",COUNTIF('Year 1 (rename)'!$C:$C,$A10)+COUNTIF('Year 2 (rename)'!$C:$C,$A10)+COUNTIF('Year 3 (rename)'!$C:$C,$A10)+COUNTIF('Year 4 (rename)'!$C:$C,$A10))","v":""}]
[null,{"$f":"IF($A11=\"\",\"\",COUNTIF('Year 1 (rename)'!$C:$C,$A11)+COUNTIF('Year 2 (rename)'!$C:$C,$A11)+COUNTIF('Year 3 (rename)'!$C:$C,$A11)+COUNTIF('Year 4 (rename)'!$C:$C,$A11))","v":""}]
[null,{"$f":"IF($A12=\"\",\"\",COUNTIF('Year 1 (rename)'!$C:$C,$A12)+COUNTIF('Year 2 (rename)'!$C:$C,$A12)+COUNTIF('Year 3 (rename)'!$C:$C,$A12)+COUNTIF('Year 4 (rename)'!$C:$C,$A12))","v":""}]
[null,{"$f":"IF($A13=\"\",\"\",COUNTIF('Year 1 (rename)'!$C:$C,$A13)+COUNTIF('Year 2 (rename)'!$C:$C,$A13)+COUNTIF('Year 3 (rename)'!$C:$C,$A13)+COUNTIF('Year 4 (rename)'!$C:$C,$A13))","v":""}]
[null,{"$f":"IF($A14=\"\",\"\",COUNTIF('Year 1 (rename)'!$C:$C,$A14)+COUNTIF('Year 2 (rename)'!$C:$C,$A14)+COUNTIF('Year 3 (rename)'!$C:$C,$A14)+COUNTIF('Year 4 (rename)'!$C:$C,$A14))","v":""}]
[null,{"$f":"IF($A15=\"\",\"\",COUNTIF('Year 1 (rename)'!$C:$C,$A15)+COUNTIF('Year 2 (rename)'!$C:$C,$A15)+COUNTIF('Year 3 (rename)'!$C:$C,$A15)+COUNTIF('Year 4 (rename)'!$C:$C,$A15))","v":""}]
[null,{"$f":"IF($A16=\"\",\"\",COUNTIF('Year 1 (rename)'!$C:$C,$A16)+COUNTIF('Year 2 (rename)'!$C:$C,$A16)+COUNTIF('Year 3 (rename)'!$C:$C,$A16)+COUNTIF('Year 4 (rename)'!$C:$C,$A16))","v":""}]
[null,{"$f":"IF($A17=\"\",\"\",COUNTIF('Year 1 (rename)'!$C:$C,$A17)+COUNTIF('Year 2 (rename)'!$C:$C,$A17)+COUNTIF('Year 3 (rename)'!$C:$C,$A17)+COUNTIF('Year 4 (rename)'!$C:$C,$A17))","v":""}]
[null,{"$f":"IF($A18=\"\",\"\",COUNTIF('Year 1 (rename)'!$C:$C,$A18)+COUNTIF('Year 2 (rename)'!$C:$C,$A18)+COUNTIF('Year 3 (rename)'!$C:$C,$A18)+COUNTIF('Year 4 (rename)'!$C:$C,$A18))","v":""}]
[null,{"$f":"IF($A19=\"\",\"\",COUNTIF('Year 1 (rename)'!$C:$C,$A19)+COUNTIF('Year 2 (rename)'!$C:$C,$A19)+COUNTIF('Year 3 (rename)'!$C:$C,$A19)+COUNTIF('Year 4 (rename)'!$C:$C,$A19))","v":""}]
[null,{"$f":"IF($A20=\"\",\"\",COUNTIF('Year 1 (rename)'!$C:$C,$A20)+COUNTIF('Year 2 (rename)'!$C:$C,$A20)+COUNTIF('Year 3 (rename)'!$C:$C,$A20)+COUNTIF('Year 4 (rename)'!$C:$C,$A20))","v":""}]
[null,{"$f":"IF($A21=\"\",\"\",COUNTIF('Year 1 (rename)'!$C:$C,$A21)+COUNTIF('Year 2 (rename)'!$C:$C,$A21)+COUNTIF('Year 3 (rename)'!$C:$C,$A21)+COUNTIF('Year 4 (rename)'!$C:$C,$A21))","v":""}]
[null,{"$f":"IF($A22=\"\",\"\",COUNTIF('Year 1 (rename)'!$C:$C,$A22)+COUNTIF('Year 2 (rename)'!$C:$C,$A22)+COUNTIF('Year 3 (rename)'!$C:$C,$A22)+COUNTIF('Year 4 (rename)'!$C:$C,$A22))","v":""}]
[null,{"$f":"IF($A23=\"\",\"\",COUNTIF('Year 1 (rename)'!$C:$C,$A23)+COUNTIF('Year 2 (rename)'!$C:$C,$A23)+COUNTIF('Year 3 (rename)'!$C:$C,$A23)+COUNTIF('Year 4 (rename)'!$C:$C,$A23))","v":""}]
[null,{"$f":"IF($A24=\"\",\"\",COUNTIF('Year 1 (rename)'!$C:$C,$A24)+COUNTIF('Year 2 (rename)'!$C:$C,$A24)+COUNTIF('Year 3 (rename)'!$C:$C,$A24)+COUNTIF('Year 4 (rename)'!$C:$C,$A24))","v":""}]
[null,{"$f":"IF($A25=\"\",\"\",COUNTIF('Year 1 (rename)'!$C:$C,$A25)+COUNTIF('Year 2 (rename)'!$C:$C,$A25)+COUNTIF('Year 3 (rename)'!$C:$C,$A25)+COUNTIF('Year 4 (rename)'!$C:$C,$A25))","v":""}]
[null,{"$f":"IF($A26=\"\",\"\",COUNTIF('Year 1 (rename)'!$C:$C,$A26)+COUNTIF('Year 2 (rename)'!$C:$C,$A26)+COUNTIF('Year 3 (rename)'!$C:$C,$A26)+COUNTIF('Year 4 (rename)'!$C:$C,$A26))","v":""}]
[null,{"$f":"IF($A27=\"\",\"\",COUNTIF('Year 1 (rename)'!$C:$C,$A27)+COUNTIF('Year 2 (rename)'!$C:$C,$A27)+COUNTIF('Year 3 (rename)'!$C:$C,$A27)+COUNTIF('Year 4 (rename)'!$C:$C,$A27))","v":""}]
[null,{"$f":"IF($A28=\"\",\"\",COUNTIF('Year 1 (rename)'!$C:$C,$A28)+COUNTIF('Year 2 (rename)'!$C:$C,$A28)+COUNTIF('Year 3 (rename)'!$C:$C,$A28)+COUNTIF('Year 4 (rename)'!$C:$C,$A28))","v":""}]
[null,{"$f":"IF($A29=\"\",\"\",COUNTIF('Year 1 (rename)'!$C:$C,$A29)+COUNTIF('Year 2 (rename)'!$C:$C,$A29)+COUNTIF('Year 3 (rename)'!$C:$C,$A29)+COUNTIF('Year 4 (rename)'!$C:$C,$A29))","v":""}]
[null,{"$f":"IF($A30=\"\",\"\",COUNTIF('Year 1 (rename)'!$C:$C,$A30)+COUNTIF('Year 2 (rename)'!$C:$C,$A30)+COUNTIF('Year 3 (rename)'!$C:$C,$A30)+COUNTIF('Year 4 (rename)'!$C:$C,$A30))","v":""}]
[null,{"$f":"IF($A31=\"\",\"\",COUNTIF('Year 1 (rename)'!$C:$C,$A31)+COUNTIF('Year 2 (rename)'!$C:$C,$A31)+COUNTIF('Year 3 (rename)'!$C:$C,$A31)+COUNTIF('Year 4 (rename)'!$C:$C,$A31))","v":""}]
[null,{"$f":"IF($A32=\"\",\"\",COUNTIF('Year 1 (rename)'!$C:$C,$A32)+COUNTIF('Year 2 (rename)'!$C:$C,$A32)+COUNTIF('Year 3 (rename)'!$C:$C,$A32)+COUNTIF('Year 4 (rename)'!$C:$C,$A32))","v":""}]
[null,{"$f":"IF($A33=\"\",\"\",COUNTIF('Year 1 (rename)'!$C:$C,$A33)+COUNTIF('Year 2 (rename)'!$C:$C,$A33)+COUNTIF('Year 3 (rename)'!$C:$C,$A33)+COUNTIF('Year 4 (rename)'!$C:$C,$A33))","v":""}]
[null,{"$f":"IF($A34=\"\",\"\",COUNTIF('Year 1 (rename)'!$C:$C,$A34)+COUNTIF('Year 2 (rename)'!$C:$C,$A34)+COUNTIF('Year 3 (rename)'!$C:$C,$A34)+COUNTIF('Year 4 (rename)'!$C:$C,$A34))","v":""}]
[null,{"$f":"IF($A35=\"\",\"\",COUNTIF('Year 1 (rename)'!$C:$C,$A35)+COUNTIF('Year 2 (rename)'!$C:$C,$A35)+COUNTIF('Year 3 (rename)'!$C:$C,$A35)+COUNTIF('Year 4 (rename)'!$C:$C,$A35))","v":""}]
[null,{"$f":"IF($A36=\"\",\"\",COUNTIF('Year 1 (rename)'!$C:$C,$A36)+COUNTIF('Year 2 (rename)'!$C:$C,$A36)+COUNTIF('Year 3 (rename)'!$C:$C,$A36)+COUNTIF('Year 4 (rename)'!$C:$C,$A36))","v":""}]
[null,{"$f":"IF($A37=\"\",\"\",COUNTIF('Year 1 (rename)'!$C:$C,$A37)+COUNTIF('Year 2 (rename)'!$C:$C,$A37)+COUNTIF('Year 3 (rename)'!$C:$C,$A37)+COUNTIF('Year 4 (rename)'!$C:$C,$A37))","v":""}]
[null,{"$f":"IF($A38=\"\",\"\",COUNTIF('Year 1 (rename)'!$C:$C,$A38)+COUNTIF('Year 2 (rename)'!$C:$C,$A38)+COUNTIF('Year 3 (rename)'!$C:$C,$A38)+COUNTIF('Year 4 (rename)'!$C:$C,$A38))","v":""}]
[null,{"$f":"IF($A39=\"\",\"\",COUNTIF('Year 1 (rename)'!$C:$C,$A39)+COUNTIF('Year 2 (rename)'!$C:$C,$A39)+COUNTIF('Year 3 (rename)'!$C:$C,$A39)+COUNTIF('Year 4 (rename)'!$C:$C,$A39))","v":""}]
[null,{"$f":"IF($A40=\"\",\"\",COUNTIF('Year 1 (rename)'!$C:$C,$A40)+COUNTIF('Year 2 (rename)'!$C:$C,$A40)+COUNTIF('Year 3 (rename)'!$C:$C,$A40)+COUNTIF('Year 4 (rename)'!$C:$C,$A40))","v":""}]
[null,{"$f":"IF($A41=\"\",\"\",COUNTIF('Year 1 (rename)'!$C:$C,$A41)+COUNTIF('Year 2 (rename)'!$C:$C,$A41)+COUNTIF('Year 3 (rename)'!$C:$C,$A41)+COUNTIF('Year 4 (rename)'!$C:$C,$A41))","v":""}]
[null,{"$f":"IF($A42=\"\",\"\",COUNTIF('Year 1 (rename)'!$C:$C,$A42)+COUNTIF('Year 2 (rename)'!$C:$C,$A42)+COUNTIF('Year 3 (rename)'!$C:$C,$A42)+COUNTIF('Year 4 (rename)'!$C:$C,$A42))","v":""}]
[null,{"$f":"IF($A43=\"\",\"\",COUNTIF('Year 1 (rename)'!$C:$C,$A43)+COUNTIF('Year 2 (rename)'!$C:$C,$A43)+COUNTIF('Year 3 (rename)'!$C:$C,$A43)+COUNTIF('Year 4 (rename)'!$C:$C,$A43))","v":""}]
[null,{"$f":"IF($A44=\"\",\"\",COUNTIF('Year 1 (rename)'!$C:$C,$A44)+COUNTIF('Year 2 (rename)'!$C:$C,$A44)+COUNTIF('Year 3 (rename)'!$C:$C,$A44)+COUNTIF('Year 4 (rename)'!$C:$C,$A44))","v":""}]
[null,{"$f":"IF($A45=\"\",\"\",COUNTIF('Year 1 (rename)'!$C:$C,$A45)+COUNTIF('Year 2 (rename)'!$C:$C,$A45)+COUNTIF('Year 3 (rename)'!$C:$C,$A45)+COUNTIF('Year 4 (rename)'!$C:$C,$A45))","v":""}]
[null,{"$f":"IF($A46=\"\",\"\",COUNTIF('Year 1 (rename)'!$C:$C,$A46)+COUNTIF('Year 2 (rename)'!$C:$C,$A46)+COUNTIF('Year 3 (rename)'!$C:$C,$A46)+COUNTIF('Year 4 (rename)'!$C:$C,$A46))","v":""}]
[null,{"$f":"IF($A47=\"\",\"\",COUNTIF('Year 1 (rename)'!$C:$C,$A47)+COUNTIF('Year 2 (rename)'!$C:$C,$A47)+COUNTIF('Year 3 (rename)'!$C:$C,$A47)+COUNTIF('Year 4 (rename)'!$C:$C,$A47))","v":""}]
[null,{"$f":"IF($A48=\"\",\"\",COUNTIF('Year 1 (rename)'!$C:$C,$A48)+COUNTIF('Year 2 (rename)'!$C:$C,$A48)+COUNTIF('Year 3 (rename)'!$C:$C,$A48)+COUNTIF('Year 4 (rename)'!$C:$C,$A48))","v":""}]
[null,{"$f":"IF($A49=\"\",\"\",COUNTIF('Year 1 (rename)'!$C:$C,$A49)+COUNTIF('Year 2 (rename)'!$C:$C,$A49)+COUNTIF('Year 3 (rename)'!$C:$C,$A49)+COUNTIF('Year 4 (rename)'!$C:$C,$A49))","v":""}]
[null,{"$f":"IF($A50=\"\",\"\",COUNTIF('Year 1 (rename)'!$C:$C,$A50)+COUNTIF('Year 2 (rename)'!$C:$C,$A50)+COUNTIF('Year 3 (rename)'!$C:$C,$A50)+COUNTIF('Year 4 (rename)'!$C:$C,$A50))","v":""}]
[null,{"$f":"IF($A51=\"\",\"\",COUNTIF('Year 1 (rename)'!$C:$C,$A51)+COUNTIF('Year 2 (rename)'!$C:$C,$A51)+COUNTIF('Year 3 (rename)'!$C:$C,$A51)+COUNTIF('Year 4 (rename)'!$C:$C,$A51))","v":""}]
[null,{"$f":"IF($A52=\"\",\"\",COUNTIF('Year 1 (rename)'!$C:$C,$A52)+COUNTIF('Year 2 (rename)'!$C:$C,$A52)+COUNTIF('Year 3 (rename)'!$C:$C,$A52)+COUNTIF('Year 4 (rename)'!$C:$C,$A52))","v":""}]
[null,{"$f":"IF($A53=\"\",\"\",COUNTIF('Year 1 (rename)'!$C:$C,$A53)+COUNTIF('Year 2 (rename)'!$C:$C,$A53)+COUNTIF('Year 3 (rename)'!$C:$C,$A53)+COUNTIF('Year 4 (rename)'!$C:$C,$A53))","v":""}]
[null,{"$f":"IF($A54=\"\",\"\",COUNTIF('Year 1 (rename)'!$C:$C,$A54)+COUNTIF('Year 2 (rename)'!$C:$C,$A54)+COUNTIF('Year 3 (rename)'!$C:$C,$A54)+COUNTIF('Year 4 (rename)'!$C:$C,$A54))","v":""}]
[null,{"$f":"IF($A55=\"\",\"\",COUNTIF('Year 1 (rename)'!$C:$C,$A55)+COUNTIF('Year 2 (rename)'!$C:$C,$A55)+COUNTIF('Year 3 (rename)'!$C:$C,$A55)+COUNTIF('Year 4 (rename)'!$C:$C,$A55))","v":""}]
[null,{"$f":"IF($A56=\"\",\"\",COUNTIF('Year 1 (rename)'!$C:$C,$A56)+COUNTIF('Year 2 (rename)'!$C:$C,$A56)+COUNTIF('Year 3 (rename)'!$C:$C,$A56)+COUNTIF('Year 4 (rename)'!$C:$C,$A56))","v":""}]
[null,{"$f":"IF($A57=\"\",\"\",COUNTIF('Year 1 (rename)'!$C:$C,$A57)+COUNTIF('Year 2 (rename)'!$C:$C,$A57)+COUNTIF('Year 3 (rename)'!$C:$C,$A57)+COUNTIF('Year 4 (rename)'!$C:$C,$A57))","v":""}]
[null,{"$f":"IF($A58=\"\",\"\",COUNTIF('Year 1 (rename)'!$C:$C,$A58)+COUNTIF('Year 2 (rename)'!$C:$C,$A58)+COUNTIF('Year 3 (rename)'!$C:$C,$A58)+COUNTIF('Year 4 (rename)'!$C:$C,$A58))","v":""}]
[null,{"$f":"IF($A59=\"\",\"\",COUNTIF('Year 1 (rename)'!$C:$C,$A59)+COUNTIF('Year 2 (rename)'!$C:$C,$A59)+COUNTIF('Year 3 (rename)'!$C:$C,$A59)+COUNTIF('Year 4 (rename)'!$C:$C,$A59))","v":""}]
[null,{"$f":"IF($A60=\"\",\"\",COUNTIF('Year 1 (rename)'!$C:$C,$A60)+COUNTIF('Year 2 (rename)'!$C:$C,$A60)+COUNTIF('Year 3 (rename)'!$C:$C,$A60)+COUNTIF('Year 4 (rename)'!$C:$C,$A60))","v":""}]
[null,{"$f":"IF($A61=\"\",\"\",COUNTIF('Year 1 (rename)'!$C:$C,$A61)+COUNTIF('Year 2 (rename)'!$C:$C,$A61)+COUNTIF('Year 3 (rename)'!$C:$C,$A61)+COUNTIF('Year 4 (rename)'!$C:$C,$A61))","v":""}]
[null,{"$f":"IF($A62=\"\",\"\",COUNTIF('Year 1 (rename)'!$C:$C,$A62)+COUNTIF('Year 2 (rename)'!$C:$C,$A62)+COUNTIF('Year 3 (rename)'!$C:$C,$A62)+COUNTIF('Year 4 (rename)'!$C:$C,$A62))","v":""}]
[null,{"$f":"IF($A63=\"\",\"\",COUNTIF('Year 1 (rename)'!$C:$C,$A63)+COUNTIF('Year 2 (rename)'!$C:$C,$A63)+COUNTIF('Year 3 (rename)'!$C:$C,$A63)+COUNTIF('Year 4 (rename)'!$C:$C,$A63))","v":""}]
[null,{"$f":"IF($A64=\"\",\"\",COUNTIF('Year 1 (rename)'!$C:$C,$A64)+COUNTIF('Year 2 (rename)'!$C:$C,$A64)+COUNTIF('Year 3 (rename)'!$C:$C,$A64)+COUNTIF('Year 4 (rename)'!$C:$C,$A64))","v":""}]
[null,{"$f":"IF($A65=\"\",\"\",COUNTIF('Year 1 (rename)'!$C:$C,$A65)+COUNTIF('Year 2 (rename)'!$C:$C,$A65)+COUNTIF('Year 3 (rename)'!$C:$C,$A65)+COUNTIF('Year 4 (rename)'!$C:$C,$A65))","v":""}]
[null,{"$f":"IF($A66=\"\",\"\",COUNTIF('Year 1 (rename)'!$C:$C,$A66)+COUNTIF('Year 2 (rename)'!$C:$C,$A66)+COUNTIF('Year 3 (rename)'!$C:$C,$A66)+COUNTIF('Year 4 (rename)'!$C:$C,$A66))","v":""}]
[null,{"$f":"IF($A67=\"\",\"\",COUNTIF('Year 1 (rename)'!$C:$C,$A67)+COUNTIF('Year 2 (rename)'!$C:$C,$A67)+COUNTIF('Year 3 (rename)'!$C:$C,$A67)+COUNTIF('Year 4 (rename)'!$C:$C,$A67))","v":""}]
[null,{"$f":"IF($A68=\"\",\"\",COUNTIF('Year 1 (rename)'!$C:$C,$A68)+COUNTIF('Year 2 (rename)'!$C:$C,$A68)+COUNTIF('Year 3 (rename)'!$C:$C,$A68)+COUNTIF('Year 4 (rename)'!$C:$C,$A68))","v":""}]
[null,{"$f":"IF($A69=\"\",\"\",COUNTIF('Year 1 (rename)'!$C:$C,$A69)+COUNTIF('Year 2 (rename)'!$C:$C,$A69)+COUNTIF('Year 3 (rename)'!$C:$C,$A69)+COUNTIF('Year 4 (rename)'!$C:$C,$A69))","v":""}]
[null,{"$f":"IF($A70=\"\",\"\",COUNTIF('Year 1 (rename)'!$C:$C,$A70)+COUNTIF('Year 2 (rename)'!$C:$C,$A70)+COUNTIF('Year 3 (rename)'!$C:$C,$A70)+COUNTIF('Year 4 (rename)'!$C:$C,$A70))","v":""}]
[null,{"$f":"IF($A71=\"\",\"\",COUNTIF('Year 1 (rename)'!$C:$C,$A71)+COUNTIF('Year 2 (rename)'!$C:$C,$A71)+COUNTIF('Year 3 (rename)'!$C:$C,$A71)+COUNTIF('Year 4 (rename)'!$C:$C,$A71))","v":""}]
[null,{"$f":"IF($A72=\"\",\"\",COUNTIF('Year 1 (rename)'!$C:$C,$A72)+COUNTIF('Year 2 (rename)'!$C:$C,$A72)+COUNTIF('Year 3 (rename)'!$C:$C,$A72)+COUNTIF('Year 4 (rename)'!$C:$C,$A72))","v":""}]
[null,{"$f":"IF($A73=\"\",\"\",COUNTIF('Year 1 (rename)'!$C:$C,$A73)+COUNTIF('Year 2 (rename)'!$C:$C,$A73)+COUNTIF('Year 3 (rename)'!$C:$C,$A73)+COUNTIF('Year 4 (rename)'!$C:$C,$A73))","v":""}]
[null,{"$f":"IF($A74=\"\",\"\",COUNTIF('Year 1 (rename)'!$C:$C,$A74)+COUNTIF('Year 2 (rename)'!$C:$C,$A74)+COUNTIF('Year 3 (rename)'!$C:$C,$A74)+COUNTIF('Year 4 (rename)'!$C:$C,$A74))","v":""}]
[null,{"$f":"IF($A75=\"\",\"\",COUNTIF('Year 1 (rename)'!$C:$C,$A75)+COUNTIF('Year 2 (rename)'!$C:$C,$A75)+COUNTIF('Year 3 (rename)'!$C:$C,$A75)+COUNTIF('Year 4 (rename)'!$C:$C,$A75))","v":""}]
[null,{"$f":"IF($A76=\"\",\"\",COUNTIF('Year 1 (rename)'!$C:$C,$A76)+COUNTIF('Year 2 (rename)'!$C:$C,$A76)+COUNTIF('Year 3 (rename)'!$C:$C,$A76)+COUNTIF('Year 4 (rename)'!$C:$C,$A76))","v":""}]
[null,{"$f":"IF($A77=\"\",\"\",COUNTIF('Year 1 (rename)'!$C:$C,$A77)+COUNTIF('Year 2 (rename)'!$C:$C,$A77)+COUNTIF('Year 3 (rename)'!$C:$C,$A77)+COUNTIF('Year 4 (rename)'!$C:$C,$A77))","v":""}]
[null,{"$f":"IF($A78=\"\",\"\",COUNTIF('Year 1 (rename)'!$C:$C,$A78)+COUNTIF('Year 2 (rename)'!$C:$C,$A78)+COUNTIF('Year 3 (rename)'!$C:$C,$A78)+COUNTIF('Year 4 (rename)'!$C:$C,$A78))","v":""}]
[null,{"$f":"IF($A79=\"\",\"\",COUNTIF('Year 1 (rename)'!$C:$C,$A79)+COUNTIF('Year 2 (rename)'!$C:$C,$A79)+COUNTIF('Year 3 (rename)'!$C:$C,$A79)+COUNTIF('Year 4 (rename)'!$C:$C,$A79))","v":""}]
[null,{"$f":"IF($A80=\"\",\"\",COUNTIF('Year 1 (rename)'!$C:$C,$A80)+COUNTIF('Year 2 (rename)'!$C:$C,$A80)+COUNTIF('Year 3 (rename)'!$C:$C,$A80)+COUNTIF('Year 4 (rename)'!$C:$C,$A80))","v":""}]
[null,{"$f":"IF($A81=\"\",\"\",COUNTIF('Year 1 (rename)'!$C:$C,$A81)+COUNTIF('Year 2 (rename)'!$C:$C,$A81)+COUNTIF('Year 3 (rename)'!$C:$C,$A81)+COUNTIF('Year 4 (rename)'!$C:$C,$A81))","v":""}]
[null,{"$f":"IF($A82=\"\",\"\",COUNTIF('Year 1 (rename)'!$C:$C,$A82)+COUNTIF('Year 2 (rename)'!$C:$C,$A82)+COUNTIF('Year 3 (rename)'!$C:$C,$A82)+COUNTIF('Year 4 (rename)'!$C:$C,$A82))","v":""}]
[null,{"$f":"IF($A83=\"\",\"\",COUNTIF('Year 1 (rename)'!$C:$C,$A83)+COUNTIF('Year 2 (rename)'!$C:$C,$A83)+COUNTIF('Year 3 (rename)'!$C:$C,$A83)+COUNTIF('Year 4 (rename)'!$C:$C,$A83))","v":""}]
[null,{"$f":"IF($A84=\"\",\"\",COUNTIF('Year 1 (rename)'!$C:$C,$A84)+COUNTIF('Year 2 (rename)'!$C:$C,$A84)+COUNTIF('Year 3 (rename)'!$C:$C,$A84)+COUNTIF('Year 4 (rename)'!$C:$C,$A84))","v":""}]
[null,{"$f":"IF($A85=\"\",\"\",COUNTIF('Year 1 (rename)'!$C:$C,$A85)+COUNTIF('Year 2 (rename)'!$C:$C,$A85)+COUNTIF('Year 3 (rename)'!$C:$C,$A85)+COUNTIF('Year 4 (rename)'!$C:$C,$A85))","v":""}]
[null,{"$f":"IF($A86=\"\",\"\",COUNTIF('Year 1 (rename)'!$C:$C,$A86)+COUNTIF('Year 2 (rename)'!$C:$C,$A86)+COUNTIF('Year 3 (rename)'!$C:$C,$A86)+COUNTIF('Year 4 (rename)'!$C:$C,$A86))","v":""}]
[null,{"$f":"IF($A87=\"\",\"\",COUNTIF('Year 1 (rename)'!$C:$C,$A87)+COUNTIF('Year 2 (rename)'!$C:$C,$A87)+COUNTIF('Year 3 (rename)'!$C:$C,$A87)+COUNTIF('Year 4 (rename)'!$C:$C,$A87))","v":""}]
[null,{"$f":"IF($A88=\"\",\"\",COUNTIF('Year 1 (rename)'!$C:$C,$A88)+COUNTIF('Year 2 (rename)'!$C:$C,$A88)+COUNTIF('Year 3 (rename)'!$C:$C,$A88)+COUNTIF('Year 4 (rename)'!$C:$C,$A88))","v":""}]
[null,{"$f":"IF($A89=\"\",\"\",COUNTIF('Year 1 (rename)'!$C:$C,$A89)+COUNTIF('Year 2 (rename)'!$C:$C,$A89)+COUNTIF('Year 3 (rename)'!$C:$C,$A89)+COUNTIF('Year 4 (rename)'!$C:$C,$A89))","v":""}]
[null,{"$f":"IF($A90=\"\",\"\",COUNTIF('Year 1 (rename)'!$C:$C,$A90)+COUNTIF('Year 2 (rename)'!$C:$C,$A90)+COUNTIF('Year 3 (rename)'!$C:$C,$A90)+COUNTIF('Year 4 (rename)'!$C:$C,$A90))","v":""}]
[null,{"$f":"IF($A91=\"\",\"\",COUNTIF('Year 1 (rename)'!$C:$C,$A91)+COUNTIF('Year 2 (rename)'!$C:$C,$A91)+COUNTIF('Year 3 (rename)'!$C:$C,$A91)+COUNTIF('Year 4 (rename)'!$C:$C,$A91))","v":""}]
[null,{"$f":"IF($A92=\"\",\"\",COUNTIF('Year 1 (rename)'!$C:$C,$A92)+COUNTIF('Year 2 (rename)'!$C:$C,$A92)+COUNTIF('Year 3 (rename)'!$C:$C,$A92)+COUNTIF('Year 4 (rename)'!$C:$C,$A92))","v":""}]
[null,{"$f":"IF($A93=\"\",\"\",COUNTIF('Year 1 (rename)'!$C:$C,$A93)+COUNTIF('Year 2 (rename)'!$C:$C,$A93)+COUNTIF('Year 3 (rename)'!$C:$C,$A93)+COUNTIF('Year 4 (rename)'!$C:$C,$A93))","v":""}]
[null,{"$f":"IF($A94=\"\",\"\",COUNTIF('Year 1 (rename)'!$C:$C,$A94)+COUNTIF('Year 2 (rename)'!$C:$C,$A94)+COUNTIF('Year 3 (rename)'!$C:$C,$A94)+COUNTIF('Year 4 (rename)'!$C:$C,$A94))","v":""}]
[null,{"$f":"IF($A95=\"\",\"\",COUNTIF('Year 1 (rename)'!$C:$C,$A95)+COUNTIF('Year 2 (rename)'!$C:$C,$A95)+COUNTIF('Year 3 (rename)'!$C:$C,$A95)+COUNTIF('Year 4 (rename)'!$C:$C,$A95))","v":""}]
[null,{"$f":"IF($A96=\"\",\"\",COUNTIF('Year 1 (rename)'!$C:$C,$A96)+COUNTIF('Year 2 (rename)'!$C:$C,$A96)+COUNTIF('Year 3 (rename)'!$C:$C,$A96)+COUNTIF('Year 4 (rename)'!$C:$C,$A96))","v":""}]
[null,{"$f":"IF($A97=\"\",\"\",COUNTIF('Year 1 (rename)'!$C:$C,$A97)+COUNTIF('Year 2 (rename)'!$C:$C,$A97)+COUNTIF('Year 3 (rename)'!$C:$C,$A97)+COUNTIF('Year 4 (rename)'!$C:$C,$A97))","v":""}]
[null,{"$f":"IF($A98=\"\",\"\",COUNTIF('Year 1 (rename)'!$C:$C,$A98)+COUNTIF('Year 2 (rename)'!$C:$C,$A98)+COUNTIF('Year 3 (rename)'!$C:$C,$A98)+COUNTIF('Year 4 (rename)'!$C:$C,$A98))","v":""}]
[null,{"$f":"IF($A99=\"\",\"\",COUNTIF('Year 1 (rename)'!$C:$C,$A99)+COUNTIF('Year 2 (rename)'!$C:$C,$A99)+COUNTIF('Year 3 (rename)'!$C:$C,$A99)+COUNTIF('Year 4 (rename)'!$C:$C,$A99))","v":""}]
[null,{"$f":"IF($A100=\"\",\"\",COUNTIF('Year 1 (rename)'!$C:$C,$A100)+COUNTIF('Year 2 (rename)'!$C:$C,$A100)+COUNTIF('Year 3 (rename)'!$C:$C,$A100)+COUNTIF('Year 4 (rename)'!$C:$C,$A100))","v":""}]
[null,{"$f":"IF($A101=\"\",\"\",COUNTIF('Year 1 (rename)'!$C:$C,$A101)+COUNTIF('Year 2 (rename)'!$C:$C,$A101)+COUNTIF('Year 3 (rename)'!$C:$C,$A101)+COUNTIF('Year 4 (rename)'!$C:$C,$A101))","v":""}]
[null,{"$f":"IF($A102=\"\",\"\",COUNTIF('Year 1 (rename)'!$C:$C,$A102)+COUNTIF('Year 2 (rename)'!$C:$C,$A102)+COUNTIF('Year 3 (rename)'!$C:$C,$A102)+COUNTIF('Year 4 (rename)'!$C:$C,$A102))","v":""}]
[null,{"$f":"IF($A103=\"\",\"\",COUNTIF('Year 1 (rename)'!$C:$C,$A103)+COUNTIF('Year 2 (rename)'!$C:$C,$A103)+COUNTIF('Year 3 (rename)'!$C:$C,$A103)+COUNTIF('Year 4 (rename)'!$C:$C,$A103))","v":""}]
[null,{"$f":"IF($A104=\"\",\"\",COUNTIF('Year 1 (rename)'!$C:$C,$A104)+COUNTIF('Year 2 (rename)'!$C:$C,$A104)+COUNTIF('Year 3 (rename)'!$C:$C,$A104)+COUNTIF('Year 4 (rename)'!$C:$C,$A104))","v":""}]
[null,{"$f":"IF($A105=\"\",\"\",COUNTIF('Year 1 (rename)'!$C:$C,$A105)+COUNTIF('Year 2 (rename)'!$C:$C,$A105)+COUNTIF('Year 3 (rename)'!$C:$C,$A105)+COUNTIF('Year 4 (rename)'!$C:$C,$A105))","v":""}]
[null,{"$f":"IF($A106=\"\",\"\",COUNTIF('Year 1 (rename)'!$C:$C,$A106)+COUNTIF('Year 2 (rename)'!$C:$C,$A106)+COUNTIF('Year 3 (rename)'!$C:$C,$A106)+COUNTIF('Year 4 (rename)'!$C:$C,$A106))","v":""}]
[null,{"$f":"IF($A107=\"\",\"\",COUNTIF('Year 1 (rename)'!$C:$C,$A107)+COUNTIF('Year 2 (rename)'!$C:$C,$A107)+COUNTIF('Year 3 (rename)'!$C:$C,$A107)+COUNTIF('Year 4 (rename)'!$C:$C,$A107))","v":""}]
[null,{"$f":"IF($A108=\"\",\"\",COUNTIF('Year 1 (rename)'!$C:$C,$A108)+COUNTIF('Year 2 (rename)'!$C:$C,$A108)+COUNTIF('Year 3 (rename)'!$C:$C,$A108)+COUNTIF('Year 4 (rename)'!$C:$C,$A108))","v":""}]
[null,{"$f":"IF($A109=\"\",\"\",COUNTIF('Year 1 (rename)'!$C:$C,$A109)+COUNTIF('Year 2 (rename)'!$C:$C,$A109)+COUNTIF('Year 3 (rename)'!$C:$C,$A109)+COUNTIF('Year 4 (rename)'!$C:$C,$A109))","v":""}]
[null,{"$f":"IF($A110=\"\",\"\",COUNTIF('Year 1 (rename)'!$C:$C,$A110)+COUNTIF('Year 2 (rename)'!$C:$C,$A110)+COUNTIF('Year 3 (rename)'!$C:$C,$A110)+COUNTIF('Year 4 (rename)'!$C:$C,$A110))","v":""}]
[null,{"$f":"IF($A111=\"\",\"\",COUNTIF('Year 1 (rename)'!$C:$C,$A111)+COUNTIF('Year 2 (rename)'!$C:$C,$A111)+COUNTIF('Year 3 (rename)'!$C:$C,$A111)+COUNTIF('Year 4 (rename)'!$C:$C,$A111))","v":""}]
[null,{"$f":"IF($A112=\"\",\"\",COUNTIF('Year 1 (rename)'!$C:$C,$A112)+COUNTIF('Year 2 (rename)'!$C:$C,$A112)+COUNTIF('Year 3 (rename)'!$C:$C,$A112)+COUNTIF('Year 4 (rename)'!$C:$C,$A112))","v":""}]
[null,{"$f":"IF($A113=\"\",\"\",COUNTIF('Year 1 (rename)'!$C:$C,$A113)+COUNTIF('Year 2 (rename)'!$C:$C,$A113)+COUNTIF('Year 3 (rename)'!$C:$C,$A113)+COUNTIF('Year 4 (rename)'!$C:$C,$A113))","v":""}]
[null,{"$f":"IF($A114=\"\",\"\",COUNTIF('Year 1 (rename)'!$C:$C,$A114)+COUNTIF('Year 2 (rename)'!$C:$C,$A114)+COUNTIF('Year 3 (rename)'!$C:$C,$A114)+COUNTIF('Year 4 (rename)'!$C:$C,$A114))","v":""}]
[null,{"$f":"IF($A115=\"\",\"\",COUNTIF('Year 1 (rename)'!$C:$C,$A115)+COUNTIF('Year 2 (rename)'!$C:$C,$A115)+COUNTIF('Year 3 (rename)'!$C:$C,$A115)+COUNTIF('Year 4 (rename)'!$C:$C,$A115))","v":""}]
[null,{"$f":"IF($A116=\"\",\"\",COUNTIF('Year 1 (rename)'!$C:$C,$A116)+COUNTIF('Year 2 (rename)'!$C:$C,$A116)+COUNTIF('Year 3 (rename)'!$C:$C,$A116)+COUNTIF('Year 4 (rename)'!$C:$C,$A116))","v":""}]
[null,{"$f":"IF($A117=\"\",\"\",COUNTIF('Year 1 (rename)'!$C:$C,$A117)+COUNTIF('Year 2 (rename)'!$C:$C,$A117)+COUNTIF('Year 3 (rename)'!$C:$C,$A117)+COUNTIF('Year 4 (rename)'!$C:$C,$A117))","v":""}]
[null,{"$f":"IF($A118=\"\",\"\",COUNTIF('Year 1 (rename)'!$C:$C,$A118)+COUNTIF('Year 2 (rename)'!$C:$C,$A118)+COUNTIF('Year 3 (rename)'!$C:$C,$A118)+COUNTIF('Year 4 (rename)'!$C:$C,$A118))","v":""}]
[null,{"$f":"IF($A119=\"\",\"\",COUNTIF('Year 1 (rename)'!$C:$C,$A119)+COUNTIF('Year 2 (rename)'!$C:$C,$A119)+COUNTIF('Year 3 (rename)'!$C:$C,$A119)+COUNTIF('Year 4 (rename)'!$C:$C,$A119))","v":""}]
[null,{"$f":"IF($A120=\"\",\"\",COUNTIF('Year 1 (rename)'!$C:$C,$A120)+COUNTIF('Year 2 (rename)'!$C:$C,$A120)+COUNTIF('Year 3 (rename)'!$C:$C,$A120)+COUNTIF('Year 4 (rename)'!$C:$C,$A120))","v":""}]
[null,{"$f":"IF($A121=\"\",\"\",COUNTIF('Year 1 (rename)'!$C:$C,$A121)+COUNTIF('Year 2 (rename)'!$C:$C,$A121)+COUNTIF('Year 3 (rename)'!$C:$C,$A121)+COUNTIF('Year 4 (rename)'!$C:$C,$A121))","v":""}]
[null,{"$f":"IF($A122=\"\",\"\",COUNTIF('Year 1 (rename)'!$C:$C,$A122)+COUNTIF('Year 2 (rename)'!$C:$C,$A122)+COUNTIF('Year 3 (rename)'!$C:$C,$A122)+COUNTIF('Year 4 (rename)'!$C:$C,$A122))","v":""}]
[null,{"$f":"IF($A123=\"\",\"\",COUNTIF('Year 1 (rename)'!$C:$C,$A123)+COUNTIF('Year 2 (rename)'!$C:$C,$A123)+COUNTIF('Year 3 (rename)'!$C:$C,$A123)+COUNTIF('Year 4 (rename)'!$C:$C,$A123))","v":""}]
[null,{"$f":"IF($A124=\"\",\"\",COUNTIF('Year 1 (rename)'!$C:$C,$A124)+COUNTIF('Year 2 (rename)'!$C:$C,$A124)+COUNTIF('Year 3 (rename)'!$C:$C,$A124)+COUNTIF('Year 4 (rename)'!$C:$C,$A124))","v":""}]
[null,{"$f":"IF($A125=\"\",\"\",COUNTIF('Year 1 (rename)'!$C:$C,$A125)+COUNTIF('Year 2 (rename)'!$C:$C,$A125)+COUNTIF('Year 3 (rename)'!$C:$C,$A125)+COUNTIF('Year 4 (rename)'!$C:$C,$A125))","v":""}]
[null,{"$f":"IF($A126=\"\",\"\",COUNTIF('Year 1 (rename)'!$C:$C,$A126)+COUNTIF('Year 2 (rename)'!$C:$C,$A126)+COUNTIF('Year 3 (rename)'!$C:$C,$A126)+COUNTIF('Year 4 (rename)'!$C:$C,$A126))","v":""}]
[null,{"$f":"IF($A127=\"\",\"\",COUNTIF('Year 1 (rename)'!$C:$C,$A127)+COUNTIF('Year 2 (rename)'!$C:$C,$A127)+COUNTIF('Year 3 (rename)'!$C:$C,$A127)+COUNTIF('Year 4 (rename)'!$C:$C,$A127))","v":""}]
[null,{"$f":"IF($A128=\"\",\"\",COUNTIF('Year 1 (rename)'!$C:$C,$A128)+COUNTIF('Year 2 (rename)'!$C:$C,$A128)+COUNTIF('Year 3 (rename)'!$C:$C,$A128)+COUNTIF('Year 4 (rename)'!$C:$C,$A128))","v":""}]
[null,{"$f":"IF($A129=\"\",\"\",COUNTIF('Year 1 (rename)'!$C:$C,$A129)+COUNTIF('Year 2 (rename)'!$C:$C,$A129)+COUNTIF('Year 3 (rename)'!$C:$C,$A129)+COUNTIF('Year 4 (rename)'!$C:$C,$A129))","v":""}]
[null,{"$f":"IF($A130=\"\",\"\",COUNTIF('Year 1 (rename)'!$C:$C,$A130)+COUNTIF('Year 2 (rename)'!$C:$C,$A130)+COUNTIF('Year 3 (rename)'!$C:$C,$A130)+COUNTIF('Year 4 (rename)'!$C:$C,$A130))","v":""}]
[null,{"$f":"IF($A131=\"\",\"\",COUNTIF('Year 1 (rename)'!$C:$C,$A131)+COUNTIF('Year 2 (rename)'!$C:$C,$A131)+COUNTIF('Year 3 (rename)'!$C:$C,$A131)+COUNTIF('Year 4 (rename)'!$C:$C,$A131))","v":""}]
[null,{"$f":"IF($A132=\"\",\"\",COUNTIF('Year 1 (rename)'!$C:$C,$A132)+COUNTIF('Year 2 (rename)'!$C:$C,$A132)+COUNTIF('Year 3 (rename)'!$C:$C,$A132)+COUNTIF('Year 4 (rename)'!$C:$C,$A132))","v":""}]
[null,{"$f":"IF($A133=\"\",\"\",COUNTIF('Year 1 (rename)'!$C:$C,$A133)+COUNTIF('Year 2 (rename)'!$C:$C,$A133)+COUNTIF('Year 3 (rename)'!$C:$C,$A133)+COUNTIF('Year 4 (rename)'!$C:$C,$A133))","v":""}]
[null,{"$f":"IF($A134=\"\",\"\",COUNTIF('Year 1 (rename)'!$C:$C,$A134)+COUNTIF('Year 2 (rename)'!$C:$C,$A134)+COUNTIF('Year 3 (rename)'!$C:$C,$A134)+COUNTIF('Year 4 (rename)'!$C:$C,$A134))","v":""}]
[null,{"$f":"IF($A135=\"\",\"\",COUNTIF('Year 1 (rename)'!$C:$C,$A135)+COUNTIF('Year 2 (rename)'!$C:$C,$A135)+COUNTIF('Year 3 (rename)'!$C:$C,$A135)+COUNTIF('Year 4 (rename)'!$C:$C,$A135))","v":""}]
[null,{"$f":"IF($A136=\"\",\"\",COUNTIF('Year 1 (rename)'!$C:$C,$A136)+COUNTIF('Year 2 (rename)'!$C:$C,$A136)+COUNTIF('Year 3 (rename)'!$C:$C,$A136)+COUNTIF('Year 4 (rename)'!$C:$C,$A136))","v":""}]
[null,{"$f":"IF($A137=\"\",\"\",COUNTIF('Year 1 (rename)'!$C:$C,$A137)+COUNTIF('Year 2 (rename)'!$C:$C,$A137)+COUNTIF('Year 3 (rename)'!$C:$C,$A137)+COUNTIF('Year 4 (rename)'!$C:$C,$A137))","v":""}]
[null,{"$f":"IF($A138=\"\",\"\",COUNTIF('Year 1 (rename)'!$C:$C,$A138)+COUNTIF('Year 2 (rename)'!$C:$C,$A138)+COUNTIF('Year 3 (rename)'!$C:$C,$A138)+COUNTIF('Year 4 (rename)'!$C:$C,$A138))","v":""}]
[null,{"$f":"IF($A139=\"\",\"\",COUNTIF('Year 1 (rename)'!$C:$C,$A139)+COUNTIF('Year 2 (rename)'!$C:$C,$A139)+COUNTIF('Year 3 (rename)'!$C:$C,$A139)+COUNTIF('Year 4 (rename)'!$C:$C,$A139))","v":""}]
[null,{"$f":"IF($A140=\"\",\"\",COUNTIF('Year 1 (rename)'!$C:$C,$A140)+COUNTIF('Year 2 (rename)'!$C:$C,$A140)+COUNTIF('Year 3 (rename)'!$C:$C,$A140)+COUNTIF('Year 4 (rename)'!$C:$C,$A140))","v":""}]
[null,{"$f":"IF($A141=\"\",\"\",COUNTIF('Year 1 (rename)'!$C:$C,$A141)+COUNTIF('Year 2 (rename)'!$C:$C,$A141)+COUNTIF('Year 3 (rename)'!$C:$C,$A141)+COUNTIF('Year 4 (rename)'!$C:$C,$A141))","v":""}]
[null,{"$f":"IF($A142=\"\",\"\",COUNTIF('Year 1 (rename)'!$C:$C,$A142)+COUNTIF('Year 2 (rename)'!$C:$C,$A142)+COUNTIF('Year 3 (rename)'!$C:$C,$A142)+COUNTIF('Year 4 (rename)'!$C:$C,$A142))","v":""}]
[null,{"$f":"IF($A143=\"\",\"\",COUNTIF('Year 1 (rename)'!$C:$C,$A143)+COUNTIF('Year 2 (rename)'!$C:$C,$A143)+COUNTIF('Year 3 (rename)'!$C:$C,$A143)+COUNTIF('Year 4 (rename)'!$C:$C,$A143))","v":""}]
[null,{"$f":"IF($A144=\"\",\"\",COUNTIF('Year 1 (rename)'!$C:$C,$A144)+COUNTIF('Year 2 (rename)'!$C:$C,$A144)+COUNTIF('Year 3 (rename)'!$C:$C,$A144)+COUNTIF('Year 4 (rename)'!$C:$C,$A144))","v":""}]
[null,{"$f":"IF($A145=\"\",\"\",COUNTIF('Year 1 (rename)'!$C:$C,$A145)+COUNTIF('Year 2 (rename)'!$C:$C,$A145)+COUNTIF('Year 3 (rename)'!$C:$C,$A145)+COUNTIF('Year 4 (rename)'!$C:$C,$A145))","v":""}]
[null,{"$f":"IF($A146=\"\",\"\",COUNTIF('Year 1 (rename)'!$C:$C,$A146)+COUNTIF('Year 2 (rename)'!$C:$C,$A146)+COUNTIF('Year 3 (rename)'!$C:$C,$A146)+COUNTIF('Year 4 (rename)'!$C:$C,$A146))","v":""}]
[null,{"$f":"IF($A147=\"\",\"\",COUNTIF('Year 1 (rename)'!$C:$C,$A147)+COUNTIF('Year 2 (rename)'!$C:$C,$A147)+COUNTIF('Year 3 (rename)'!$C:$C,$A147)+COUNTIF('Year 4 (rename)'!$C:$C,$A147))","v":""}]
[null,{"$f":"IF($A148=\"\",\"\",COUNTIF('Year 1 (rename)'!$C:$C,$A148)+COUNTIF('Year 2 (rename)'!$C:$C,$A148)+COUNTIF('Year 3 (rename)'!$C:$C,$A148)+COUNTIF('Year 4 (rename)'!$C:$C,$A148))","v":""}]
[null,{"$f":"IF($A149=\"\",\"\",COUNTIF('Year 1 (rename)'!$C:$C,$A149)+COUNTIF('Year 2 (rename)'!$C:$C,$A149)+COUNTIF('Year 3 (rename)'!$C:$C,$A149)+COUNTIF('Year 4 (rename)'!$C:$C,$A149))","v":""}]
[null,{"$f":"IF($A150=\"\",\"\",COUNTIF('Year 1 (rename)'!$C:$C,$A150)+COUNTIF('Year 2 (rename)'!$C:$C,$A150)+COUNTIF('Year 3 (rename)'!$C:$C,$A150)+COUNTIF('Year 4 (rename)'!$C:$C,$A150))","v":""}]
[null,{"$f":"IF($A151=\"\",\"\",COUNTIF('Year 1 (rename)'!$C:$C,$A151)+COUNTIF('Year 2 (rename)'!$C:$C,$A151)+COUNTIF('Year 3 (rename)'!$C:$C,$A151)+COUNTIF('Year 4 (rename)'!$C:$C,$A151))","v":""}]
[null,{"$f":"IF($A152=\"\",\"\",COUNTIF('Year 1 (rename)'!$C:$C,$A152)+COUNTIF('Year 2 (rename)'!$C:$C,$A152)+COUNTIF('Year 3 (rename)'!$C:$C,$A152)+COUNTIF('Year 4 (rename)'!$C:$C,$A152))","v":""}]
[null,{"$f":"IF($A153=\"\",\"\",COUNTIF('Year 1 (rename)'!$C:$C,$A153)+COUNTIF('Year 2 (rename)'!$C:$C,$A153)+COUNTIF('Year 3 (rename)'!$C:$C,$A153)+COUNTIF('Year 4 (rename)'!$C:$C,$A153))","v":""}]
[null,{"$f":"IF($A154=\"\",\"\",COUNTIF('Year 1 (rename)'!$C:$C,$A154)+COUNTIF('Year 2 (rename)'!$C:$C,$A154)+COUNTIF('Year 3 (rename)'!$C:$C,$A154)+COUNTIF('Year 4 (rename)'!$C:$C,$A154))","v":""}]
[null,{"$f":"IF($A155=\"\",\"\",COUNTIF('Year 1 (rename)'!$C:$C,$A155)+COUNTIF('Year 2 (rename)'!$C:$C,$A155)+COUNTIF('Year 3 (rename)'!$C:$C,$A155)+COUNTIF('Year 4 (rename)'!$C:$C,$A155))","v":""}]
[null,{"$f":"IF($A156=\"\",\"\",COUNTIF('Year 1 (rename)'!$C:$C,$A156)+COUNTIF('Year 2 (rename)'!$C:$C,$A156)+COUNTIF('Year 3 (rename)'!$C:$C,$A156)+COUNTIF('Year 4 (rename)'!$C:$C,$A156))","v":""}]
[null,{"$f":"IF($A157=\"\",\"\",COUNTIF('Year 1 (rename)'!$C:$C,$A157)+COUNTIF('Year 2 (rename)'!$C:$C,$A157)+COUNTIF('Year 3 (rename)'!$C:$C,$A157)+COUNTIF('Year 4 (rename)'!$C:$C,$A157))","v":""}]
[null,{"$f":"IF($A158=\"\",\"\",COUNTIF('Year 1 (rename)'!$C:$C,$A158)+COUNTIF('Year 2 (rename)'!$C:$C,$A158)+COUNTIF('Year 3 (rename)'!$C:$C,$A158)+COUNTIF('Year 4 (rename)'!$C:$C,$A158))","v":""}]
[null,{"$f":"IF($A159=\"\",\"\",COUNTIF('Year 1 (rename)'!$C:$C,$A159)+COUNTIF('Year 2 (rename)'!$C:$C,$A159)+COUNTIF('Year 3 (rename)'!$C:$C,$A159)+COUNTIF('Year 4 (rename)'!$C:$C,$A159))","v":""}]
[null,{"$f":"IF($A160=\"\",\"\",COUNTIF('Year 1 (rename)'!$C:$C,$A160)+COUNTIF('Year 2 (rename)'!$C:$C,$A160)+COUNTIF('Year 3 (rename)'!$C:$C,$A160)+COUNTIF('Year 4 (rename)'!$C:$C,$A160))","v":""}]
[null,{"$f":"IF($A161=\"\",\"\",COUNTIF('Year 1 (rename)'!$C:$C,$A161)+COUNTIF('Year 2 (rename)'!$C:$C,$A161)+COUNTIF('Year 3 (rename)'!$C:$C,$A161)+COUNTIF('Year 4 (rename)'!$C:$C,$A161))","v":""}]
[null,{"$f":"IF($A162=\"\",\"\",COUNTIF('Year 1 (rename)'!$C:$C,$A162)+COUNTIF('Year 2 (rename)'!$C:$C,$A162)+COUNTIF('Year 3 (rename)'!$C:$C,$A162)+COUNTIF('Year 4 (rename)'!$C:$C,$A162))","v":""}]
[null,{"$f":"IF($A163=\"\",\"\",COUNTIF('Year 1 (rename)'!$C:$C,$A163)+COUNTIF('Year 2 (rename)'!$C:$C,$A163)+COUNTIF('Year 3 (rename)'!$C:$C,$A163)+COUNTIF('Year 4 (rename)'!$C:$C,$A163))","v":""}]
[null,{"$f":"IF($A164=\"\",\"\",COUNTIF('Year 1 (rename)'!$C:$C,$A164)+COUNTIF('Year 2 (rename)'!$C:$C,$A164)+COUNTIF('Year 3 (rename)'!$C:$C,$A164)+COUNTIF('Year 4 (rename)'!$C:$C,$A164))","v":""}]
[null,{"$f":"IF($A165=\"\",\"\",COUNTIF('Year 1 (rename)'!$C:$C,$A165)+COUNTIF('Year 2 (rename)'!$C:$C,$A165)+COUNTIF('Year 3 (rename)'!$C:$C,$A165)+COUNTIF('Year 4 (rename)'!$C:$C,$A165))","v":""}]
[null,{"$f":"IF($A166=\"\",\"\",COUNTIF('Year 1 (rename)'!$C:$C,$A166)+COUNTIF('Year 2 (rename)'!$C:$C,$A166)+COUNTIF('Year 3 (rename)'!$C:$C,$A166)+COUNTIF('Year 4 (rename)'!$C:$C,$A166))","v":""}]
[null,{"$f":"IF($A167=\"\",\"\",COUNTIF('Year 1 (rename)'!$C:$C,$A167)+COUNTIF('Year 2 (rename)'!$C:$C,$A167)+COUNTIF('Year 3 (rename)'!$C:$C,$A167)+COUNTIF('Year 4 (rename)'!$C:$C,$A167))","v":""}]
[null,{"$f":"IF($A168=\"\",\"\",COUNTIF('Year 1 (rename)'!$C:$C,$A168)+COUNTIF('Year 2 (rename)'!$C:$C,$A168)+COUNTIF('Year 3 (rename)'!$C:$C,$A168)+COUNTIF('Year 4 (rename)'!$C:$C,$A168))","v":""}]
[null,{"$f":"IF($A169=\"\",\"\",COUNTIF('Year 1 (rename)'!$C:$C,$A169)+COUNTIF('Year 2 (rename)'!$C:$C,$A169)+COUNTIF('Year 3 (rename)'!$C:$C,$A169)+COUNTIF('Year 4 (rename)'!$C:$C,$A169))","v":""}]
[null,{"$f":"IF($A170=\"\",\"\",COUNTIF('Year 1 (rename)'!$C:$C,$A170)+COUNTIF('Year 2 (rename)'!$C:$C,$A170)+COUNTIF('Year 3 (rename)'!$C:$C,$A170)+COUNTIF('Year 4 (rename)'!$C:$C,$A170))","v":""}]
[null,{"$f":"IF($A171=\"\",\"\",COUNTIF('Year 1 (rename)'!$C:$C,$A171)+COUNTIF('Year 2 (rename)'!$C:$C,$A171)+COUNTIF('Year 3 (rename)'!$C:$C,$A171)+COUNTIF('Year 4 (rename)'!$C:$C,$A171))","v":""}]
[null,{"$f":"IF($A172=\"\",\"\",COUNTIF('Year 1 (rename)'!$C:$C,$A172)+COUNTIF('Year 2 (rename)'!$C:$C,$A172)+COUNTIF('Year 3 (rename)'!$C:$C,$A172)+COUNTIF('Year 4 (rename)'!$C:$C,$A172))","v":""}]
[null,{"$f":"IF($A173=\"\",\"\",COUNTIF('Year 1 (rename)'!$C:$C,$A173)+COUNTIF('Year 2 (rename)'!$C:$C,$A173)+COUNTIF('Year 3 (rename)'!$C:$C,$A173)+COUNTIF('Year 4 (rename)'!$C:$C,$A173))","v":""}]
[null,{"$f":"IF($A174=\"\",\"\",COUNTIF('Year 1 (rename)'!$C:$C,$A174)+COUNTIF('Year 2 (rename)'!$C:$C,$A174)+COUNTIF('Year 3 (rename)'!$C:$C,$A174)+COUNTIF('Year 4 (rename)'!$C:$C,$A174))","v":""}]
[null,{"$f":"IF($A175=\"\",\"\",COUNTIF('Year 1 (rename)'!$C:$C,$A175)+COUNTIF('Year 2 (rename)'!$C:$C,$A175)+COUNTIF('Year 3 (rename)'!$C:$C,$A175)+COUNTIF('Year 4 (rename)'!$C:$C,$A175))","v":""}]
[null,{"$f":"IF($A176=\"\",\"\",COUNTIF('Year 1 (rename)'!$C:$C,$A176)+COUNTIF('Year 2 (rename)'!$C:$C,$A176)+COUNTIF('Year 3 (rename)'!$C:$C,$A176)+COUNTIF('Year 4 (rename)'!$C:$C,$A176))","v":""}]
[null,{"$f":"IF($A177=\"\",\"\",COUNTIF('Year 1 (rename)'!$C:$C,$A177)+COUNTIF('Year 2 (rename)'!$C:$C,$A177)+COUNTIF('Year 3 (rename)'!$C:$C,$A177)+COUNTIF('Year 4 (rename)'!$C:$C,$A177))","v":""}]
[null,{"$f":"IF($A178=\"\",\"\",COUNTIF('Year 1 (rename)'!$C:$C,$A178)+COUNTIF('Year 2 (rename)'!$C:$C,$A178)+COUNTIF('Year 3 (rename)'!$C:$C,$A178)+COUNTIF('Year 4 (rename)'!$C:$C,$A178))","v":""}]
[null,{"$f":"IF($A179=\"\",\"\",COUNTIF('Year 1 (rename)'!$C:$C,$A179)+COUNTIF('Year 2 (rename)'!$C:$C,$A179)+COUNTIF('Year 3 (rename)'!$C:$C,$A179)+COUNTIF('Year 4 (rename)'!$C:$C,$A179))","v":""}]
[null,{"$f":"IF($A180=\"\",\"\",COUNTIF('Year 1 (rename)'!$C:$C,$A180)+COUNTIF('Year 2 (rename)'!$C:$C,$A180)+COUNTIF('Year 3 (rename)'!$C:$C,$A180)+COUNTIF('Year 4 (rename)'!$C:$C,$A180))","v":""}]
[null,{"$f":"IF($A181=\"\",\"\",COUNTIF('Year 1 (rename)'!$C:$C,$A181)+COUNTIF('Year 2 (rename)'!$C:$C,$A181)+COUNTIF('Year 3 (rename)'!$C:$C,$A181)+COUNTIF('Year 4 (rename)'!$C:$C,$A181))","v":""}]
[null,{"$f":"IF($A182=\"\",\"\",COUNTIF('Year 1 (rename)'!$C:$C,$A182)+COUNTIF('Year 2 (rename)'!$C:$C,$A182)+COUNTIF('Year 3 (rename)'!$C:$C,$A182)+COUNTIF('Year 4 (rename)'!$C:$C,$A182))","v":""}]
[null,{"$f":"IF($A183=\"\",\"\",COUNTIF('Year 1 (rename)'!$C:$C,$A183)+COUNTIF('Year 2 (rename)'!$C:$C,$A183)+COUNTIF('Year 3 (rename)'!$C:$C,$A183)+COUNTIF('Year 4 (rename)'!$C:$C,$A183))","v":""}]
[null,{"$f":"IF($A184=\"\",\"\",COUNTIF('Year 1 (rename)'!$C:$C,$A184)+COUNTIF('Year 2 (rename)'!$C:$C,$A184)+COUNTIF('Year 3 (rename)'!$C:$C,$A184)+COUNTIF('Year 4 (rename)'!$C:$C,$A184))","v":""}]
[null,{"$f":"IF($A185=\"\",\"\",COUNTIF('Year 1 (rename)'!$C:$C,$A185)+COUNTIF('Year 2 (rename)'!$C:$C,$A185)+COUNTIF('Year 3 (rename)'!$C:$C,$A185)+COUNTIF('Year 4 (rename)'!$C:$C,$A185))","v":""}]
[null,{"$f":"IF($A186=\"\",\"\",COUNTIF('Year 1 (rename)'!$C:$C,$A186)+COUNTIF('Year 2 (rename)'!$C:$C,$A186)+COUNTIF('Year 3 (rename)'!$C:$C,$A186)+COUNTIF('Year 4 (rename)'!$C:$C,$A186))","v":""}]
[null,{"$f":"IF($A187=\"\",\"\",COUNTIF('Year 1 (rename)'!$C:$C,$A187)+COUNTIF('Year 2 (rename)'!$C:$C,$A187)+COUNTIF('Year 3 (rename)'!$C:$C,$A187)+COUNTIF('Year 4 (rename)'!$C:$C,$A187))","v":""}]
[null,{"$f":"IF($A188=\"\",\"\",COUNTIF('Year 1 (rename)'!$C:$C,$A188)+COUNTIF('Year 2 (rename)'!$C:$C,$A188)+COUNTIF('Year 3 (rename)'!$C:$C,$A188)+COUNTIF('Year 4 (rename)'!$C:$C,$A188))","v":""}]
[null,{"$f":"IF($A189=\"\",\"\",COUNTIF('Year 1 (rename)'!$C:$C,$A189)+COUNTIF('Year 2 (rename)'!$C:$C,$A189)+COUNTIF('Year 3 (rename)'!$C:$C,$A189)+COUNTIF('Year 4 (rename)'!$C:$C,$A189))","v":""}]
[null,{"$f":"IF($A190=\"\",\"\",COUNTIF('Year 1 (rename)'!$C:$C,$A190)+COUNTIF('Year 2 (rename)'!$C:$C,$A190)+COUNTIF('Year 3 (rename)'!$C:$C,$A190)+COUNTIF('Year 4 (rename)'!$C:$C,$A190))","v":""}]
[null,{"$f":"IF($A191=\"\",\"\",COUNTIF('Year 1 (rename)'!$C:$C,$A191)+COUNTIF('Year 2 (rename)'!$C:$C,$A191)+COUNTIF('Year 3 (rename)'!$C:$C,$A191)+COUNTIF('Year 4 (rename)'!$C:$C,$A191))","v":""}]
[null,{"$f":"IF($A192=\"\",\"\",COUNTIF('Year 1 (rename)'!$C:$C,$A192)+COUNTIF('Year 2 (rename)'!$C:$C,$A192)+COUNTIF('Year 3 (rename)'!$C:$C,$A192)+COUNTIF('Year 4 (rename)'!$C:$C,$A192))","v":""}]
[null,{"$f":"IF($A193=\"\",\"\",COUNTIF('Year 1 (rename)'!$C:$C,$A193)+COUNTIF('Year 2 (rename)'!$C:$C,$A193)+COUNTIF('Year 3 (rename)'!$C:$C,$A193)+COUNTIF('Year 4 (rename)'!$C:$C,$A193))","v":""}]
[null,{"$f":"IF($A194=\"\",\"\",COUNTIF('Year 1 (rename)'!$C:$C,$A194)+COUNTIF('Year 2 (rename)'!$C:$C,$A194)+COUNTIF('Year 3 (rename)'!$C:$C,$A194)+COUNTIF('Year 4 (rename)'!$C:$C,$A194))","v":""}]
[null,{"$f":"IF($A195=\"\",\"\",COUNTIF('Year 1 (rename)'!$C:$C,$A195)+COUNTIF('Year 2 (rename)'!$C:$C,$A195)+COUNTIF('Year 3 (rename)'!$C:$C,$A195)+COUNTIF('Year 4 (rename)'!$C:$C,$A195))","v":""}]
[null,{"$f":"IF($A196=\"\",\"\",COUNTIF('Year 1 (rename)'!$C:$C,$A196)+COUNTIF('Year 2 (rename)'!$C:$C,$A196)+COUNTIF('Year 3 (rename)'!$C:$C,$A196)+COUNTIF('Year 4 (rename)'!$C:$C,$A196))","v":""}]
[null,{"$f":"IF($A197=\"\",\"\",COUNTIF('Year 1 (rename)'!$C:$C,$A197)+COUNTIF('Year 2 (rename)'!$C:$C,$A197)+COUNTIF('Year 3 (rename)'!$C:$C,$A197)+COUNTIF('Year 4 (rename)'!$C:$C,$A197))","v":""}]
[null,{"$f":"IF($A198=\"\",\"\",COUNTIF('Year 1 (rename)'!$C:$C,$A198)+COUNTIF('Year 2 (rename)'!$C:$C,$A198)+COUNTIF('Year 3 (rename)'!$C:$C,$A198)+COUNTIF('Year 4 (rename)'!$C:$C,$A198))","v":""}]
[null,{"$f":"IF($A199=\"\",\"\",COUNTIF('Year 1 (rename)'!$C:$C,$A199)+COUNTIF('Year 2 (rename)'!$C:$C,$A199)+COUNTIF('Year 3 (rename)'!$C:$C,$A199)+COUNTIF('Year 4 (rename)'!$C:$C,$A199))","v":""}]
[null,{"$f":"IF($A200=\"\",\"\",COUNTIF('Year 1 (rename)'!$C:$C,$A200)+COUNTIF('Year 2 (rename)'!$C:$C,$A200)+COUNTIF('Year 3 (rename)'!$C:$C,$A200)+COUNTIF('Year 4 (rename)'!$C:$C,$A200))","v":""}]
[null,{"$f":"IF($A201=\"\",\"\",COUNTIF('Year 1 (rename)'!$C:$C,$A201)+COUNTIF('Year 2 (rename)'!$C:$C,$A201)+COUNTIF('Year 3 (rename)'!$C:$C,$A201)+COUNTIF('Year 4 (rename)'!$C:$C,$A201))","v":""}]
[null,{"$f":"IF($A202=\"\",\"\",COUNTIF('Year 1 (rename)'!$C:$C,$A202)+COUNTIF('Year 2 (rename)'!$C:$C,$A202)+COUNTIF('Year 3 (rename)'!$C:$C,$A202)+COUNTIF('Year 4 (rename)'!$C:$C,$A202))","v":""}]
[null,{"$f":"IF($A203=\"\",\"\",COUNTIF('Year 1 (rename)'!$C:$C,$A203)+COUNTIF('Year 2 (rename)'!$C:$C,$A203)+COUNTIF('Year 3 (rename)'!$C:$C,$A203)+COUNTIF('Year 4 (rename)'!$C:$C,$A203))","v":""}]
[null,{"$f":"IF($A204=\"\",\"\",COUNTIF('Year 1 (rename)'!$C:$C,$A204)+COUNTIF('Year 2 (rename)'!$C:$C,$A204)+COUNTIF('Year 3 (rename)'!$C:$C,$A204)+COUNTIF('Year 4 (rename)'!$C:$C,$A204))","v":""}]
[null,{"$f":"IF($A205=\"\",\"\",COUNTIF('Year 1 (rename)'!$C:$C,$A205)+COUNTIF('Year 2 (rename)'!$C:$C,$A205)+COUNTIF('Year 3 (rename)'!$C:$C,$A205)+COUNTIF('Year 4 (rename)'!$C:$C,$A205))","v":""}]
[null,{"$f":"IF($A206=\"\",\"\",COUNTIF('Year 1 (rename)'!$C:$C,$A206)+COUNTIF('Year 2 (rename)'!$C:$C,$A206)+COUNTIF('Year 3 (rename)'!$C:$C,$A206)+COUNTIF('Year 4 (rename)'!$C:$C,$A206))","v":""}]
[null,{"$f":"IF($A207=\"\",\"\",COUNTIF('Year 1 (rename)'!$C:$C,$A207)+COUNTIF('Year 2 (rename)'!$C:$C,$A207)+COUNTIF('Year 3 (rename)'!$C:$C,$A207)+COUNTIF('Year 4 (rename)'!$C:$C,$A207))","v":""}]
[null,{"$f":"IF($A208=\"\",\"\",COUNTIF('Year 1 (rename)'!$C:$C,$A208)+COUNTIF('Year 2 (rename)'!$C:$C,$A208)+COUNTIF('Year 3 (rename)'!$C:$C,$A208)+COUNTIF('Year 4 (rename)'!$C:$C,$A208))","v":""}]
[null,{"$f":"IF($A209=\"\",\"\",COUNTIF('Year 1 (rename)'!$C:$C,$A209)+COUNTIF('Year 2 (rename)'!$C:$C,$A209)+COUNTIF('Year 3 (rename)'!$C:$C,$A209)+COUNTIF('Year 4 (rename)'!$C:$C,$A209))","v":""}]
[null,{"$f":"IF($A210=\"\",\"\",COUNTIF('Year 1 (rename)'!$C:$C,$A210)+COUNTIF('Year 2 (rename)'!$C:$C,$A210)+COUNTIF('Year 3 (rename)'!$C:$C,$A210)+COUNTIF('Year 4 (rename)'!$C:$C,$A210))","v":""}]
[null,{"$f":"IF($A211=\"\",\"\",COUNTIF('Year 1 (rename)'!$C:$C,$A211)+COUNTIF('Year 2 (rename)'!$C:$C,$A211)+COUNTIF('Year 3 (rename)'!$C:$C,$A211)+COUNTIF('Year 4 (rename)'!$C:$C,$A211))","v":""}]
[null,{"$f":"IF($A212=\"\",\"\",COUNTIF('Year 1 (rename)'!$C:$C,$A212)+COUNTIF('Year 2 (rename)'!$C:$C,$A212)+COUNTIF('Year 3 (rename)'!$C:$C,$A212)+COUNTIF('Year 4 (rename)'!$C:$C,$A212))","v":""}]
[null,{"$f":"IF($A213=\"\",\"\",COUNTIF('Year 1 (rename)'!$C:$C,$A213)+COUNTIF('Year 2 (rename)'!$C:$C,$A213)+COUNTIF('Year 3 (rename)'!$C:$C,$A213)+COUNTIF('Year 4 (rename)'!$C:$C,$A213))","v":""}]
[null,{"$f":"IF($A214=\"\",\"\",COUNTIF('Year 1 (rename)'!$C:$C,$A214)+COUNTIF('Year 2 (rename)'!$C:$C,$A214)+COUNTIF('Year 3 (rename)'!$C:$C,$A214)+COUNTIF('Year 4 (rename)'!$C:$C,$A214))","v":""}]
[null,{"$f":"IF($A215=\"\",\"\",COUNTIF('Year 1 (rename)'!$C:$C,$A215)+COUNTIF('Year 2 (rename)'!$C:$C,$A215)+COUNTIF('Year 3 (rename)'!$C:$C,$A215)+COUNTIF('Year 4 (rename)'!$C:$C,$A215))","v":""}]
[null,{"$f":"IF($A216=\"\",\"\",COUNTIF('Year 1 (rename)'!$C:$C,$A216)+COUNTIF('Year 2 (rename)'!$C:$C,$A216)+COUNTIF('Year 3 (rename)'!$C:$C,$A216)+COUNTIF('Year 4 (rename)'!$C:$C,$A216))","v":""}]
[null,{"$f":"IF($A217=\"\",\"\",COUNTIF('Year 1 (rename)'!$C:$C,$A217)+COUNTIF('Year 2 (rename)'!$C:$C,$A217)+COUNTIF('Year 3 (rename)'!$C:$C,$A217)+COUNTIF('Year 4 (rename)'!$C:$C,$A217))","v":""}]
[null,{"$f":"IF($A218=\"\",\"\",COUNTIF('Year 1 (rename)'!$C:$C,$A218)+COUNTIF('Year 2 (rename)'!$C:$C,$A218)+COUNTIF('Year 3 (rename)'!$C:$C,$A218)+COUNTIF('Year 4 (rename)'!$C:$C,$A218))","v":""}]
[null,{"$f":"IF($A219=\"\",\"\",COUNTIF('Year 1 (rename)'!$C:$C,$A219)+COUNTIF('Year 2 (rename)'!$C:$C,$A219)+COUNTIF('Year 3 (rename)'!$C:$C,$A219)+COUNTIF('Year 4 (rename)'!$C:$C,$A219))","v":""}]
[null,{"$f":"IF($A220=\"\",\"\",COUNTIF('Year 1 (rename)'!$C:$C,$A220)+COUNTIF('Year 2 (rename)'!$C:$C,$A220)+COUNTIF('Year 3 (rename)'!$C:$C,$A220)+COUNTIF('Year 4 (rename)'!$C:$C,$A220))","v":""}]
[null,{"$f":"IF($A221=\"\",\"\",COUNTIF('Year 1 (rename)'!$C:$C,$A221)+COUNTIF('Year 2 (rename)'!$C:$C,$A221)+COUNTIF('Year 3 (rename)'!$C:$C,$A221)+COUNTIF('Year 4 (rename)'!$C:$C,$A221))","v":""}]
[null,{"$f":"IF($A222=\"\",\"\",COUNTIF('Year 1 (rename)'!$C:$C,$A222)+COUNTIF('Year 2 (rename)'!$C:$C,$A222)+COUNTIF('Year 3 (rename)'!$C:$C,$A222)+COUNTIF('Year 4 (rename)'!$C:$C,$A222))","v":""}]
[null,{"$f":"IF($A223=\"\",\"\",COUNTIF('Year 1 (rename)'!$C:$C,$A223)+COUNTIF('Year 2 (rename)'!$C:$C,$A223)+COUNTIF('Year 3 (rename)'!$C:$C,$A223)+COUNTIF('Year 4 (rename)'!$C:$C,$A223))","v":""}]
[null,{"$f":"IF($A224=\"\",\"\",COUNTIF('Year 1 (rename)'!$C:$C,$A224)+COUNTIF('Year 2 (rename)'!$C:$C,$A224)+COUNTIF('Year 3 (rename)'!$C:$C,$A224)+COUNTIF('Year 4 (rename)'!$C:$C,$A224))","v":""}]
[null,{"$f":"IF($A225=\"\",\"\",COUNTIF('Year 1 (rename)'!$C:$C,$A225)+COUNTIF('Year 2 (rename)'!$C:$C,$A225)+COUNTIF('Year 3 (rename)'!$C:$C,$A225)+COUNTIF('Year 4 (rename)'!$C:$C,$A225))","v":""}]
[null,{"$f":"IF($A226=\"\",\"\",COUNTIF('Year 1 (rename)'!$C:$C,$A226)+COUNTIF('Year 2 (rename)'!$C:$C,$A226)+COUNTIF('Year 3 (rename)'!$C:$C,$A226)+COUNTIF('Year 4 (rename)'!$C:$C,$A226))","v":""}]
[null,{"$f":"IF($A227=\"\",\"\",COUNTIF('Year 1 (rename)'!$C:$C,$A227)+COUNTIF('Year 2 (rename)'!$C:$C,$A227)+COUNTIF('Year 3 (rename)'!$C:$C,$A227)+COUNTIF('Year 4 (rename)'!$C:$C,$A227))","v":""}]
[null,{"$f":"IF($A228=\"\",\"\",COUNTIF('Year 1 (rename)'!$C:$C,$A228)+COUNTIF('Year 2 (rename)'!$C:$C,$A228)+COUNTIF('Year 3 (rename)'!$C:$C,$A228)+COUNTIF('Year 4 (rename)'!$C:$C,$A228))","v":""}]
[null,{"$f":"IF($A229=\"\",\"\",COUNTIF('Year 1 (rename)'!$C:$C,$A229)+COUNTIF('Year 2 (rename)'!$C:$C,$A229)+COUNTIF('Year 3 (rename)'!$C:$C,$A229)+COUNTIF('Year 4 (rename)'!$C:$C,$A229))","v":""}]
[null,{"$f":"IF($A230=\"\",\"\",COUNTIF('Year 1 (rename)'!$C:$C,$A230)+COUNTIF('Year 2 (rename)'!$C:$C,$A230)+COUNTIF('Year 3 (rename)'!$C:$C,$A230)+COUNTIF('Year 4 (rename)'!$C:$C,$A230))","v":""}]
[null,{"$f":"IF($A231=\"\",\"\",COUNTIF('Year 1 (rename)'!$C:$C,$A231)+COUNTIF('Year 2 (rename)'!$C:$C,$A231)+COUNTIF('Year 3 (rename)'!$C:$C,$A231)+COUNTIF('Year 4 (rename)'!$C:$C,$A231))","v":""}]
[null,{"$f":"IF($A232=\"\",\"\",COUNTIF('Year 1 (rename)'!$C:$C,$A232)+COUNTIF('Year 2 (rename)'!$C:$C,$A232)+COUNTIF('Year 3 (rename)'!$C:$C,$A232)+COUNTIF('Year 4 (rename)'!$C:$C,$A232))","v":""}]
[null,{"$f":"IF($A233=\"\",\"\",COUNTIF('Year 1 (rename)'!$C:$C,$A233)+COUNTIF('Year 2 (rename)'!$C:$C,$A233)+COUNTIF('Year 3 (rename)'!$C:$C,$A233)+COUNTIF('Year 4 (rename)'!$C:$C,$A233))","v":""}]
[null,{"$f":"IF($A234=\"\",\"\",COUNTIF('Year 1 (rename)'!$C:$C,$A234)+COUNTIF('Year 2 (rename)'!$C:$C,$A234)+COUNTIF('Year 3 (rename)'!$C:$C,$A234)+COUNTIF('Year 4 (rename)'!$C:$C,$A234))","v":""}]
[null,{"$f":"IF($A235=\"\",\"\",COUNTIF('Year 1 (rename)'!$C:$C,$A235)+COUNTIF('Year 2 (rename)'!$C:$C,$A235)+COUNTIF('Year 3 (rename)'!$C:$C,$A235)+COUNTIF('Year 4 (rename)'!$C:$C,$A235))","v":""}]
[null,{"$f":"IF($A236=\"\",\"\",COUNTIF('Year 1 (rename)'!$C:$C,$A236)+COUNTIF('Year 2 (rename)'!$C:$C,$A236)+COUNTIF('Year 3 (rename)'!$C:$C,$A236)+COUNTIF('Year 4 (rename)'!$C:$C,$A236))","v":""}]
[null,{"$f":"IF($A237=\"\",\"\",COUNTIF('Year 1 (rename)'!$C:$C,$A237)+COUNTIF('Year 2 (rename)'!$C:$C,$A237)+COUNTIF('Year 3 (rename)'!$C:$C,$A237)+COUNTIF('Year 4 (rename)'!$C:$C,$A237))","v":""}]
[null,{"$f":"IF($A238=\"\",\"\",COUNTIF('Year 1 (rename)'!$C:$C,$A238)+COUNTIF('Year 2 (rename)'!$C:$C,$A238)+COUNTIF('Year 3 (rename)'!$C:$C,$A238)+COUNTIF('Year 4 (rename)'!$C:$C,$A238))","v":""}]
[null,{"$f":"IF($A239=\"\",\"\",COUNTIF('Year 1 (rename)'!$C:$C,$A239)+COUNTIF('Year 2 (rename)'!$C:$C,$A239)+COUNTIF('Year 3 (rename)'!$C:$C,$A239)+COUNTIF('Year 4 (rename)'!$C:$C,$A239))","v":""}]
[null,{"$f":"IF($A240=\"\",\"\",COUNTIF('Year 1 (rename)'!$C:$C,$A240)+COUNTIF('Year 2 (rename)'!$C:$C,$A240)+COUNTIF('Year 3 (rename)'!$C:$C,$A240)+COUNTIF('Year 4 (rename)'!$C:$C,$A240))","v":""}]
[null,{"$f":"IF($A241=\"\",\"\",COUNTIF('Year 1 (rename)'!$C:$C,$A241)+COUNTIF('Year 2 (rename)'!$C:$C,$A241)+COUNTIF('Year 3 (rename)'!$C:$C,$A241)+COUNTIF('Year 4 (rename)'!$C:$C,$A241))","v":""}]
[null,{"$f":"IF($A242=\"\",\"\",COUNTIF('Year 1 (rename)'!$C:$C,$A242)+COUNTIF('Year 2 (rename)'!$C:$C,$A242)+COUNTIF('Year 3 (rename)'!$C:$C,$A242)+COUNTIF('Year 4 (rename)'!$C:$C,$A242))","v":""}]
[null,{"$f":"IF($A243=\"\",\"\",COUNTIF('Year 1 (rename)'!$C:$C,$A243)+COUNTIF('Year 2 (rename)'!$C:$C,$A243)+COUNTIF('Year 3 (rename)'!$C:$C,$A243)+COUNTIF('Year 4 (rename)'!$C:$C,$A243))","v":""}]
[null,{"$f":"IF($A244=\"\",\"\",COUNTIF('Year 1 (rename)'!$C:$C,$A244)+COUNTIF('Year 2 (rename)'!$C:$C,$A244)+COUNTIF('Year 3 (rename)'!$C:$C,$A244)+COUNTIF('Year 4 (rename)'!$C:$C,$A244))","v":""}]
[null,{"$f":"IF($A245=\"\",\"\",COUNTIF('Year 1 (rename)'!$C:$C,$A245)+COUNTIF('Year 2 (rename)'!$C:$C,$A245)+COUNTIF('Year 3 (rename)'!$C:$C,$A245)+COUNTIF('Year 4 (rename)'!$C:$C,$A245))","v":""}]
[null,{"$f":"IF($A246=\"\",\"\",COUNTIF('Year 1 (rename)'!$C:$C,$A246)+COUNTIF('Year 2 (rename)'!$C:$C,$A246)+COUNTIF('Year 3 (rename)'!$C:$C,$A246)+COUNTIF('Year 4 (rename)'!$C:$C,$A246))","v":""}]
[null,{"$f":"IF($A247=\"\",\"\",COUNTIF('Year 1 (rename)'!$C:$C,$A247)+COUNTIF('Year 2 (rename)'!$C:$C,$A247)+COUNTIF('Year 3 (rename)'!$C:$C,$A247)+COUNTIF('Year 4 (rename)'!$C:$C,$A247))","v":""}]
[null,{"$f":"IF($A248=\"\",\"\",COUNTIF('Year 1 (rename)'!$C:$C,$A248)+COUNTIF('Year 2 (rename)'!$C:$C,$A248)+COUNTIF('Year 3 (rename)'!$C:$C,$A248)+COUNTIF('Year 4 (rename)'!$C:$C,$A248))","v":""}]
[null,{"$f":"IF($A249=\"\",\"\",COUNTIF('Year 1 (rename)'!$C:$C,$A249)+COUNTIF('Year 2 (rename)'!$C:$C,$A249)+COUNTIF('Year 3 (rename)'!$C:$C,$A249)+COUNTIF('Year 4 (rename)'!$C:$C,$A249))","v":""}]
[null,{"$f":"IF($A250=\"\",\"\",COUNTIF('Year 1 (rename)'!$C:$C,$A250)+COUNTIF('Year 2 (rename)'!$C:$C,$A250)+COUNTIF('Year 3 (rename)'!$C:$C,$A250)+COUNTIF('Year 4 (rename)'!$C:$C,$A250))","v":""}]